BEGIN:VCALENDAR
VERSION:2.0
PRODID:-//Town of Redington Beach, Pinellas County, Florida - ECPv6.15.17.1//NONSGML v1.0//EN
CALSCALE:GREGORIAN
METHOD:PUBLISH
X-WR-CALNAME:Town of Redington Beach, Pinellas County, Florida
X-ORIGINAL-URL:https://townofredingtonbeach.com
X-WR-CALDESC:Events for Town of Redington Beach, Pinellas County, Florida
REFRESH-INTERVAL;VALUE=DURATION:PT1H
X-Robots-Tag:noindex
X-PUBLISHED-TTL:PT1H
BEGIN:VTIMEZONE
TZID:America/Chicago
BEGIN:DAYLIGHT
TZOFFSETFROM:-0600
TZOFFSETTO:-0500
TZNAME:CDT
DTSTART:20170312T080000
END:DAYLIGHT
BEGIN:STANDARD
TZOFFSETFROM:-0500
TZOFFSETTO:-0600
TZNAME:CST
DTSTART:20171105T070000
END:STANDARD
BEGIN:DAYLIGHT
TZOFFSETFROM:-0600
TZOFFSETTO:-0500
TZNAME:CDT
DTSTART:20180311T080000
END:DAYLIGHT
BEGIN:STANDARD
TZOFFSETFROM:-0500
TZOFFSETTO:-0600
TZNAME:CST
DTSTART:20181104T070000
END:STANDARD
BEGIN:DAYLIGHT
TZOFFSETFROM:-0600
TZOFFSETTO:-0500
TZNAME:CDT
DTSTART:20190310T080000
END:DAYLIGHT
BEGIN:STANDARD
TZOFFSETFROM:-0500
TZOFFSETTO:-0600
TZNAME:CST
DTSTART:20191103T070000
END:STANDARD
END:VTIMEZONE
BEGIN:VEVENT
DTSTART;TZID=America/Chicago:20180407T180000
DTEND;TZID=America/Chicago:20180407T220000
DTSTAMP:20260422T113947
CREATED:20180322T150416Z
LAST-MODIFIED:20180322T150416Z
UID:10000264-1523124000-1523138400@townofredingtonbeach.com
SUMMARY:Santa's Angels presents: HAVANA NIGHTS Saturday\, April 7th in Friendship Park
DESCRIPTION:SANTA’S ANGELS  WHERE YOU MAKE THE DIFFERENCE! \n                   *   HAVANA nights  !!   * \nOne good look at the beautiful Senorita de Havana tells the Tropical thematic magic and flavor that will be created by the Santa’s Angels Spring fundraiser.  Spring breezes wafting Caribbean music\, all you can eat and drink of everything – The Scarr Bar & Rum inspired tropical cocktails\, as well as: \nHemingway Havana Daiquiris \nBeer and Wine \nTraditional Nachman Pig Roast \nFrijoles Negros & Rice \nWally’s Three Bean Salad\nDonna’s Desserts \nClassic Cars \nPhoto Booth \nDominoes Contests \nGames \nSilent Auction \nRaffle Tickets \nLive Music & D.J. \nCigars \nDancing under the Stars \nMingling with your Neighbors \nWin a Trip for 2 To Sonoma/Napa\, CA Wineries\, Air fare /Fairmont Hotel ($6000.00 value) \nCome dressed as you are or wear a Fedora hat\, Guayabera shirt  \nor Rumba dress—enjoy a tropical evening! \nTickets: $25 EACH WITH TOY DONATION / $30 EACH WITHOUT TOY DONATION \nPurchase at Madeira Beach Hardware\, Citgo Gas and Market\, Sign of the Dolphin\, The Bronze Lady\, \nOr online: https://www.eventbrite.com/Or local tix delivered to your door call (727)710-6327-Wally \n  \n100% OF THE PROCEEDS GOES TO SANTA’S ANGELS TO CREATE A CHRISTMAS FOR \nPINELLAS COUNTY UNDERPRIVILEGED CHILDREN. \nFor more information\, to volunteer or sponsorship opportunities\, contact Mike Brown 727-362-3397. \nLike us on Facebook: https://www.facebook.com/SantasAngelsFloridaORG/ \n  \n  \n  \n  \n  \n 
URL:https://townofredingtonbeach.com/event/santas-angels-presents-havana-nights-saturday-april-7th-in-friendship-park/
CATEGORIES:Events
END:VEVENT
END:VCALENDAR