BEGIN:VCALENDAR
VERSION:2.0
PRODID:-//Town of Redington Beach, Pinellas County, Florida - ECPv6.15.17.1//NONSGML v1.0//EN
CALSCALE:GREGORIAN
METHOD:PUBLISH
X-WR-CALNAME:Town of Redington Beach, Pinellas County, Florida
X-ORIGINAL-URL:https://townofredingtonbeach.com
X-WR-CALDESC:Events for Town of Redington Beach, Pinellas County, Florida
REFRESH-INTERVAL;VALUE=DURATION:PT1H
X-Robots-Tag:noindex
X-PUBLISHED-TTL:PT1H
BEGIN:VTIMEZONE
TZID:America/New_York
BEGIN:DAYLIGHT
TZOFFSETFROM:-0500
TZOFFSETTO:-0400
TZNAME:EDT
DTSTART:20210314T070000
END:DAYLIGHT
BEGIN:STANDARD
TZOFFSETFROM:-0400
TZOFFSETTO:-0500
TZNAME:EST
DTSTART:20211107T060000
END:STANDARD
BEGIN:DAYLIGHT
TZOFFSETFROM:-0500
TZOFFSETTO:-0400
TZNAME:EDT
DTSTART:20220313T070000
END:DAYLIGHT
BEGIN:STANDARD
TZOFFSETFROM:-0400
TZOFFSETTO:-0500
TZNAME:EST
DTSTART:20221106T060000
END:STANDARD
BEGIN:DAYLIGHT
TZOFFSETFROM:-0500
TZOFFSETTO:-0400
TZNAME:EDT
DTSTART:20230312T070000
END:DAYLIGHT
BEGIN:STANDARD
TZOFFSETFROM:-0400
TZOFFSETTO:-0500
TZNAME:EST
DTSTART:20231105T060000
END:STANDARD
END:VTIMEZONE
BEGIN:VTIMEZONE
TZID:America/Chicago
BEGIN:DAYLIGHT
TZOFFSETFROM:-0600
TZOFFSETTO:-0500
TZNAME:CDT
DTSTART:20190310T080000
END:DAYLIGHT
BEGIN:STANDARD
TZOFFSETFROM:-0500
TZOFFSETTO:-0600
TZNAME:CST
DTSTART:20191103T070000
END:STANDARD
BEGIN:DAYLIGHT
TZOFFSETFROM:-0600
TZOFFSETTO:-0500
TZNAME:CDT
DTSTART:20200308T080000
END:DAYLIGHT
BEGIN:STANDARD
TZOFFSETFROM:-0500
TZOFFSETTO:-0600
TZNAME:CST
DTSTART:20201101T070000
END:STANDARD
BEGIN:DAYLIGHT
TZOFFSETFROM:-0600
TZOFFSETTO:-0500
TZNAME:CDT
DTSTART:20210314T080000
END:DAYLIGHT
BEGIN:STANDARD
TZOFFSETFROM:-0500
TZOFFSETTO:-0600
TZNAME:CST
DTSTART:20211107T070000
END:STANDARD
END:VTIMEZONE
BEGIN:VEVENT
DTSTART;TZID=America/New_York:20220321T080000
DTEND;TZID=America/New_York:20220321T120000
DTSTAMP:20260423T015405
CREATED:20220223T150711Z
LAST-MODIFIED:20220223T152202Z
UID:10000784-1647849600-1647864000@townofredingtonbeach.com
SUMMARY:DEADLINE FOR VARIANCE APPLICATIONS
DESCRIPTION:IN ORDER TO MEET THE DEADLINE FOR THE NEXT  \nBOARD OF ADJUSTMENT HEARING \nON APRIL 21\, 2022  \nAPPLICATIONS MUST BE RECEIVED AT TOWN HALL \nNO LATER THAN: \n  \nNOON \nMONDAY\, MARCH 21\, 2022
URL:https://townofredingtonbeach.com/event/deadline-for-variance-applications-35/
CATEGORIES:Board of Adjustment
END:VEVENT
BEGIN:VEVENT
DTSTART;TZID=America/New_York:20220216T080000
DTEND;TZID=America/New_York:20220216T120000
DTSTAMP:20260423T015405
CREATED:20220104T185324Z
LAST-MODIFIED:20220104T185324Z
UID:10000778-1644998400-1645012800@townofredingtonbeach.com
SUMMARY:DEADLINE FOR VARIANCE APPLICATIONS
DESCRIPTION:IN ORDER TO MEET THE DEADLINE FOR THE NEXT BOARD OF ADJUSTMENT HEARING \nON MARCH 17\, 2022 \n APPLICATIONS MUST BE RECEIVED AT TOWN HALL \nNO LATER THAN: NOON\, WEDNESDAY\, FEBRUARY 16\, 2022
URL:https://townofredingtonbeach.com/event/deadline-for-variance-applications-34/
CATEGORIES:Board of Adjustment
END:VEVENT
BEGIN:VEVENT
DTSTART;TZID=America/New_York:20220118T080000
DTEND;TZID=America/New_York:20220118T120000
DTSTAMP:20260423T015405
CREATED:20220104T184037Z
LAST-MODIFIED:20220104T184037Z
UID:10000777-1642492800-1642507200@townofredingtonbeach.com
SUMMARY:DEADLINE FOR VARIANCE APPLICATIONS
DESCRIPTION:IN ORDER TO MEET THE DEADLINE FOR THE NEXT BOARD OF ADJUSTMENT HEARING \nON FEBRUARY 17\, 2022 \n APPLICATIONS MUST BE RECEIVED AT TOWN HALL \nNO LATER THAN: NOON\, TUESDAY\, JANUARY 18\, 2022
URL:https://townofredingtonbeach.com/event/deadline-for-variance-applications-33/
CATEGORIES:Board of Adjustment
END:VEVENT
BEGIN:VEVENT
DTSTART;TZID=America/Chicago:20201221T080000
DTEND;TZID=America/Chicago:20201221T120000
DTSTAMP:20260423T015405
CREATED:20200113T183727Z
LAST-MODIFIED:20200113T183727Z
UID:10000657-1608537600-1608552000@townofredingtonbeach.com
SUMMARY:DEADLINE FOR VARIANCE APPLICATIONS
DESCRIPTION:IN ORDER TO MEET THE DEADLINE FOR THE NEXT BOARD OF ADJUSTMENT HEARING \nON JANUARY 21\, 2021 \n APPLICATIONS MUST BE RECEIVED AT TOWN HALL \nNO LATER THAN NOON\, MONDAY\, DECEMBER 21\, 2020
URL:https://townofredingtonbeach.com/event/deadline-for-variance-applications-32/
CATEGORIES:Board of Adjustment
END:VEVENT
BEGIN:VEVENT
DTSTART;TZID=America/Chicago:20201116T080000
DTEND;TZID=America/Chicago:20201116T120000
DTSTAMP:20260423T015405
CREATED:20200113T183600Z
LAST-MODIFIED:20200113T183600Z
UID:10000656-1605513600-1605528000@townofredingtonbeach.com
SUMMARY:DEADLINE FOR VARIANCE APPLICATIONS
DESCRIPTION:IN ORDER TO MEET THE DEADLINE FOR THE NEXT BOARD OF ADJUSTMENT HEARING \nON DECEMBER 17\, 2020 \n APPLICATIONS MUST BE RECEIVED AT TOWN HALL \nNO LATER THAN NOON\, MONDAY\, NOVEMBER 16\, 2020
URL:https://townofredingtonbeach.com/event/deadline-for-variance-applications-31/
CATEGORIES:Board of Adjustment
END:VEVENT
BEGIN:VEVENT
DTSTART;TZID=America/Chicago:20201019T080000
DTEND;TZID=America/Chicago:20201019T120000
DTSTAMP:20260423T015405
CREATED:20200113T183302Z
LAST-MODIFIED:20200113T183302Z
UID:10000655-1603094400-1603108800@townofredingtonbeach.com
SUMMARY:DEADLINE FOR VARIANCE APPLICATIONS
DESCRIPTION:IN ORDER TO MEET THE DEADLINE FOR THE NEXT BOARD OF ADJUSTMENT HEARING \nON NOVEMBER 19\, 2020 \n APPLICATIONS MUST BE RECEIVED AT TOWN HALL \nNO LATER THAN NOON\, MONDAY\, OCTOBER 19\, 2020
URL:https://townofredingtonbeach.com/event/deadline-for-variance-applications-30/
CATEGORIES:Board of Adjustment
END:VEVENT
BEGIN:VEVENT
DTSTART;TZID=America/Chicago:20200917T190000
DTEND;TZID=America/Chicago:20200917T200000
DTSTAMP:20260423T015405
CREATED:20190508T161222Z
LAST-MODIFIED:20200819T130102Z
UID:10000419-1600369200-1600372800@townofredingtonbeach.com
SUMMARY:BOARD OF ADJUSTMENT-CANCELED
DESCRIPTION:No variance applications were submitted by the deadline\, therefore the September 17th Board of Adjustment meeting is canceled.
URL:https://townofredingtonbeach.com/event/board-of-adjustment-3-2020-09-17/
CATEGORIES:Meetings,Board of Adjustment
END:VEVENT
BEGIN:VEVENT
DTSTART;TZID=America/Chicago:20200914T080000
DTEND;TZID=America/Chicago:20200914T120000
DTSTAMP:20260423T015405
CREATED:20200113T183143Z
LAST-MODIFIED:20200819T125831Z
UID:10000654-1600070400-1600084800@townofredingtonbeach.com
SUMMARY:DEADLINE FOR VARIANCE APPLICATIONS
DESCRIPTION:IN ORDER TO MEET THE DEADLINE FOR THE NEXT BOARD OF ADJUSTMENT HEARING \nON OCTOBER 15\, 2020 \n APPLICATIONS MUST BE RECEIVED AT TOWN HALL \nNO LATER THAN NOON\, MONDAY\, SEPTEMBER 14\, 2020
URL:https://townofredingtonbeach.com/event/deadline-for-variance-applications-29/
CATEGORIES:Board of Adjustment
END:VEVENT
BEGIN:VEVENT
DTSTART;TZID=America/Chicago:20200817T080000
DTEND;TZID=America/Chicago:20200817T120000
DTSTAMP:20260423T015405
CREATED:20200113T182623Z
LAST-MODIFIED:20200113T182623Z
UID:10000653-1597651200-1597665600@townofredingtonbeach.com
SUMMARY:DEADLINE FOR VARIANCE APPLICATIONS
DESCRIPTION:IN ORDER TO MEET THE DEADLINE FOR THE NEXT BOARD OF ADJUSTMENT HEARING \nON SEPTEMBER 17\, 2020 \n APPLICATIONS MUST BE RECEIVED AT TOWN HALL \nNO LATER THAN: NOON\, MONDAY\, AUGUST 17\, 2020
URL:https://townofredingtonbeach.com/event/deadline-for-variance-applications-28/
CATEGORIES:Board of Adjustment
END:VEVENT
BEGIN:VEVENT
DTSTART;TZID=America/Chicago:20200720T080000
DTEND;TZID=America/Chicago:20200720T120000
DTSTAMP:20260423T015405
CREATED:20200113T182203Z
LAST-MODIFIED:20200113T182203Z
UID:10000652-1595232000-1595246400@townofredingtonbeach.com
SUMMARY:DEADLINE FOR VARIANCE APPLICATIONS
DESCRIPTION:IN ORDER TO MEET THE DEADLINE FOR THE NEXT BOARD OF ADJUSTMENT HEARING \nON AUGUST 20\, 2020 \n APPLICATIONS MUST BE RECEIVED AT TOWN HALL \nNO LATER THAN: NOON\, MONDAY\, JULY 20\, 2020
URL:https://townofredingtonbeach.com/event/deadline-for-variance-applications-27/
CATEGORIES:Board of Adjustment
END:VEVENT
BEGIN:VEVENT
DTSTART;TZID=America/Chicago:20200615T080000
DTEND;TZID=America/Chicago:20200615T120000
DTSTAMP:20260423T015405
CREATED:20200113T181035Z
LAST-MODIFIED:20200113T181035Z
UID:10000651-1592208000-1592222400@townofredingtonbeach.com
SUMMARY:DEADLINE FOR VARIANCE APPLICATIONS
DESCRIPTION:IN ORDER TO MEET THE DEADLINE FOR THE NEXT BOARD OF ADJUSTMENT HEARING \nON JULY 16\, 2020 \n APPLICATIONS MUST BE RECEIVED AT TOWN HALL \nNO LATER THAN: NOON\, MONDAY\, JUNE 15\, 2020
URL:https://townofredingtonbeach.com/event/deadline-for-variance-applications-26/
CATEGORIES:Board of Adjustment
END:VEVENT
BEGIN:VEVENT
DTSTART;TZID=America/Chicago:20200518T080000
DTEND;TZID=America/Chicago:20200518T120000
DTSTAMP:20260423T015405
CREATED:20200113T175919Z
LAST-MODIFIED:20200113T175919Z
UID:10000650-1589788800-1589803200@townofredingtonbeach.com
SUMMARY:DEADLINE FOR VARIANCE APPLICATIONS
DESCRIPTION:IN ORDER TO MEET THE DEADLINE FOR THE NEXT BOARD OF ADJUSTMENT HEARING \nON JUNE 18\, 2020 \n APPLICATIONS MUST BE RECEIVED AT TOWN HALL \nNO LATER THAN: NOON\, MONDAY\, MAY 18\, 2020
URL:https://townofredingtonbeach.com/event/deadline-for-variance-applications-25/
CATEGORIES:Board of Adjustment
END:VEVENT
BEGIN:VEVENT
DTSTART;TZID=America/Chicago:20200420T080000
DTEND;TZID=America/Chicago:20200420T120000
DTSTAMP:20260423T015405
CREATED:20200113T175758Z
LAST-MODIFIED:20200113T175758Z
UID:10000649-1587369600-1587384000@townofredingtonbeach.com
SUMMARY:DEADLINE FOR VARIANCE APPLICATIONS
DESCRIPTION:IN ORDER TO MEET THE DEADLINE FOR THE NEXT BOARD OF ADJUSTMENT HEARING \nON MAY 21\, 2020 \n APPLICATIONS MUST BE RECEIVED AT TOWN HALL \nNO LATER THAN: NOON\, MONDAY\, APRIL 20\, 2020
URL:https://townofredingtonbeach.com/event/deadline-for-variance-applications-24/
CATEGORIES:Board of Adjustment
END:VEVENT
BEGIN:VEVENT
DTSTART;TZID=America/Chicago:20200316T080000
DTEND;TZID=America/Chicago:20200316T120000
DTSTAMP:20260423T015405
CREATED:20200113T175646Z
LAST-MODIFIED:20200113T175646Z
UID:10000648-1584345600-1584360000@townofredingtonbeach.com
SUMMARY:DEADLINE FOR VARIANCE APPLICATIONS
DESCRIPTION:IN ORDER TO MEET THE DEADLINE FOR THE NEXT BOARD OF ADJUSTMENT HEARING \nON APRIL 16\, 2020 \n APPLICATIONS MUST BE RECEIVED AT TOWN HALL \nNO LATER THAN: NOON\, MONDAY\, MARCH 16\, 2020
URL:https://townofredingtonbeach.com/event/deadline-for-variance-applications-23/
CATEGORIES:Board of Adjustment
END:VEVENT
BEGIN:VEVENT
DTSTART;TZID=America/Chicago:20200217T080000
DTEND;TZID=America/Chicago:20200217T120000
DTSTAMP:20260423T015405
CREATED:20200113T175423Z
LAST-MODIFIED:20200113T175423Z
UID:10000647-1581926400-1581940800@townofredingtonbeach.com
SUMMARY:DEADLINE FOR VARIANCE APPLICATIONS
DESCRIPTION:IN ORDER TO MEET THE DEADLINE FOR THE NEXT BOARD OF ADJUSTMENT HEARING \nON MARCH 19\, 2020 \n APPLICATIONS MUST BE RECEIVED AT TOWN HALL \nNO LATER THAN: NOON\, MONDAY\, FEBRUARY 17\, 2020
URL:https://townofredingtonbeach.com/event/deadline-for-variance-applications-22/
CATEGORIES:Board of Adjustment
END:VEVENT
BEGIN:VEVENT
DTSTART;TZID=America/Chicago:20200121T080000
DTEND;TZID=America/Chicago:20200121T120000
DTSTAMP:20260423T015405
CREATED:20200113T174348Z
LAST-MODIFIED:20200113T174348Z
UID:10000646-1579593600-1579608000@townofredingtonbeach.com
SUMMARY:DEADLINE FOR VARIANCE APPLICATIONS
DESCRIPTION:IN ORDER TO MEET THE DEADLINE FOR THE NEXT BOARD OF ADJUSTMENT HEARING \nON FEBRUARY 20\, 2020 \n APPLICATIONS MUST BE RECEIVED AT TOWN HALL \nNO LATER THAN: NOON\, MONDAY\, JANUARY 21\, 2020
URL:https://townofredingtonbeach.com/event/deadline-for-variance-applications-21/
CATEGORIES:Board of Adjustment
END:VEVENT
END:VCALENDAR