BEGIN:VCALENDAR
VERSION:2.0
PRODID:-//Town of Redington Beach, Pinellas County, Florida - ECPv6.15.17.1//NONSGML v1.0//EN
CALSCALE:GREGORIAN
METHOD:PUBLISH
X-WR-CALNAME:Town of Redington Beach, Pinellas County, Florida
X-ORIGINAL-URL:https://townofredingtonbeach.com
X-WR-CALDESC:Events for Town of Redington Beach, Pinellas County, Florida
REFRESH-INTERVAL;VALUE=DURATION:PT1H
X-Robots-Tag:noindex
X-PUBLISHED-TTL:PT1H
BEGIN:VTIMEZONE
TZID:America/Chicago
BEGIN:DAYLIGHT
TZOFFSETFROM:-0600
TZOFFSETTO:-0500
TZNAME:CDT
DTSTART:20170312T080000
END:DAYLIGHT
BEGIN:STANDARD
TZOFFSETFROM:-0500
TZOFFSETTO:-0600
TZNAME:CST
DTSTART:20171105T070000
END:STANDARD
BEGIN:DAYLIGHT
TZOFFSETFROM:-0600
TZOFFSETTO:-0500
TZNAME:CDT
DTSTART:20180311T080000
END:DAYLIGHT
BEGIN:STANDARD
TZOFFSETFROM:-0500
TZOFFSETTO:-0600
TZNAME:CST
DTSTART:20181104T070000
END:STANDARD
BEGIN:DAYLIGHT
TZOFFSETFROM:-0600
TZOFFSETTO:-0500
TZNAME:CDT
DTSTART:20190310T080000
END:DAYLIGHT
BEGIN:STANDARD
TZOFFSETFROM:-0500
TZOFFSETTO:-0600
TZNAME:CST
DTSTART:20191103T070000
END:STANDARD
END:VTIMEZONE
BEGIN:VEVENT
DTSTART;TZID=America/Chicago:20180704T080000
DTEND;TZID=America/Chicago:20180704T160000
DTSTAMP:20260425T084746
CREATED:20180101T130000Z
LAST-MODIFIED:20180101T130000Z
UID:10000372-1530691200-1530720000@townofredingtonbeach.com
SUMMARY:Town Hall Offices Closed
DESCRIPTION:The offices in Town Hall will be closed Wednesday\, July 4th in observance of Independence Day.
URL:https://townofredingtonbeach.com/event/town-hall-offices-closed-2/
CATEGORIES:Events
END:VEVENT
BEGIN:VEVENT
DTSTART;TZID=America/Chicago:20180707T160000
DTEND;TZID=America/Chicago:20180707T200000
DTSTAMP:20260425T084746
CREATED:20170617T200000Z
LAST-MODIFIED:20170617T200000Z
UID:10000341-1530979200-1530993600@townofredingtonbeach.com
SUMMARY:RBPOA Annual Beach Party at Beach Park
DESCRIPTION:The Redington Beach Property Owners Association will hold their annual Beach Party at Beach Park from 4pm to Sunset.  BYOB\, and bring a dish to share.  RBPOA will provide the hot dogs\, water and juice plus various games. Relax\, chill and enjoy our own natural treasure.
URL:https://townofredingtonbeach.com/event/rbpoa-annual-beach-party-at-beach-park/
CATEGORIES:Events
END:VEVENT
BEGIN:VEVENT
DTSTART;TZID=America/Chicago:20180730T080000
DTEND;TZID=America/Chicago:20180730T170000
DTSTAMP:20260425T084746
CREATED:20180725T160518Z
LAST-MODIFIED:20180725T160518Z
UID:10000435-1532937600-1532970000@townofredingtonbeach.com
SUMMARY:Voter Registration Deadline & Deadline to Change Political Party Affiliation: July 30\, 2018
DESCRIPTION:Click here for more information.
URL:https://townofredingtonbeach.com/event/voter-registration-deadline-deadline-to-change-political-party-affiliation-july-30-2018/
CATEGORIES:Events
END:VEVENT
END:VCALENDAR