BEGIN:VCALENDAR
VERSION:2.0
PRODID:-//Town of Redington Beach, Pinellas County, Florida - ECPv6.15.17.1//NONSGML v1.0//EN
CALSCALE:GREGORIAN
METHOD:PUBLISH
X-WR-CALNAME:Town of Redington Beach, Pinellas County, Florida
X-ORIGINAL-URL:https://townofredingtonbeach.com
X-WR-CALDESC:Events for Town of Redington Beach, Pinellas County, Florida
REFRESH-INTERVAL;VALUE=DURATION:PT1H
X-Robots-Tag:noindex
X-PUBLISHED-TTL:PT1H
BEGIN:VTIMEZONE
TZID:America/New_York
BEGIN:DAYLIGHT
TZOFFSETFROM:-0500
TZOFFSETTO:-0400
TZNAME:EDT
DTSTART:20210314T070000
END:DAYLIGHT
BEGIN:STANDARD
TZOFFSETFROM:-0400
TZOFFSETTO:-0500
TZNAME:EST
DTSTART:20211107T060000
END:STANDARD
BEGIN:DAYLIGHT
TZOFFSETFROM:-0500
TZOFFSETTO:-0400
TZNAME:EDT
DTSTART:20220313T070000
END:DAYLIGHT
BEGIN:STANDARD
TZOFFSETFROM:-0400
TZOFFSETTO:-0500
TZNAME:EST
DTSTART:20221106T060000
END:STANDARD
BEGIN:DAYLIGHT
TZOFFSETFROM:-0500
TZOFFSETTO:-0400
TZNAME:EDT
DTSTART:20230312T070000
END:DAYLIGHT
BEGIN:STANDARD
TZOFFSETFROM:-0400
TZOFFSETTO:-0500
TZNAME:EST
DTSTART:20231105T060000
END:STANDARD
END:VTIMEZONE
BEGIN:VEVENT
DTSTART;TZID=America/New_York:20221203T164500
DTEND;TZID=America/New_York:20221203T190000
DTSTAMP:20260422T212043
CREATED:20220607T143315Z
LAST-MODIFIED:20220607T143315Z
UID:10000806-1670085900-1670094000@townofredingtonbeach.com
SUMMARY:RBPOA Tree Lighting
DESCRIPTION:
URL:https://townofredingtonbeach.com/event/rbpoa-tree-lighting/
CATEGORIES:Events
END:VEVENT
BEGIN:VEVENT
DTSTART;TZID=America/New_York:20221210T160000
DTEND;TZID=America/New_York:20221210T200000
DTSTAMP:20260422T212043
CREATED:20220607T143221Z
LAST-MODIFIED:20220607T143221Z
UID:10000804-1670688000-1670702400@townofredingtonbeach.com
SUMMARY:Town-wide Caroling / Christmas Party
DESCRIPTION:
URL:https://townofredingtonbeach.com/event/town-wide-caroling-christmas-party/
CATEGORIES:Events
END:VEVENT
BEGIN:VEVENT
DTSTART;TZID=America/New_York:20221218T180000
DTEND;TZID=America/New_York:20221218T220000
DTSTAMP:20260422T212043
CREATED:20221130T135057Z
LAST-MODIFIED:20221130T135057Z
UID:10000822-1671386400-1671400800@townofredingtonbeach.com
SUMMARY:Boat Parade
DESCRIPTION:The Redington Beaches and Indian Shores Christmas Boat Parade will be held on Sunday\, December 18th beginning at 6pm at the Tom Stewart Causeway and ending at Caddy’s Indian Shores. \n  \n  \n 
URL:https://townofredingtonbeach.com/event/boat-parade-3/
CATEGORIES:Events
ATTACH;FMTTYPE=image/jpeg:https://cdn.townweb.com/townofredingtonbeach.com/wp-content/uploads/2022/11/Boat-Parade.jpg
END:VEVENT
END:VCALENDAR