BEGIN:VCALENDAR
VERSION:2.0
PRODID:-//Town of Redington Beach, Pinellas County, Florida - ECPv6.15.17.1//NONSGML v1.0//EN
CALSCALE:GREGORIAN
METHOD:PUBLISH
X-WR-CALNAME:Town of Redington Beach, Pinellas County, Florida
X-ORIGINAL-URL:https://townofredingtonbeach.com
X-WR-CALDESC:Events for Town of Redington Beach, Pinellas County, Florida
REFRESH-INTERVAL;VALUE=DURATION:PT1H
X-Robots-Tag:noindex
X-PUBLISHED-TTL:PT1H
BEGIN:VTIMEZONE
TZID:America/New_York
BEGIN:DAYLIGHT
TZOFFSETFROM:-0500
TZOFFSETTO:-0400
TZNAME:EDT
DTSTART:20240310T070000
END:DAYLIGHT
BEGIN:STANDARD
TZOFFSETFROM:-0400
TZOFFSETTO:-0500
TZNAME:EST
DTSTART:20241103T060000
END:STANDARD
BEGIN:DAYLIGHT
TZOFFSETFROM:-0500
TZOFFSETTO:-0400
TZNAME:EDT
DTSTART:20250309T070000
END:DAYLIGHT
BEGIN:STANDARD
TZOFFSETFROM:-0400
TZOFFSETTO:-0500
TZNAME:EST
DTSTART:20251102T060000
END:STANDARD
BEGIN:DAYLIGHT
TZOFFSETFROM:-0500
TZOFFSETTO:-0400
TZNAME:EDT
DTSTART:20260308T070000
END:DAYLIGHT
BEGIN:STANDARD
TZOFFSETFROM:-0400
TZOFFSETTO:-0500
TZNAME:EST
DTSTART:20261101T060000
END:STANDARD
END:VTIMEZONE
BEGIN:VEVENT
DTSTART;TZID=America/New_York:20251206T164500
DTEND;TZID=America/New_York:20251206T200000
DTSTAMP:20260421T105347
CREATED:20230106T153105Z
LAST-MODIFIED:20251205T151033Z
UID:10001033-1765039500-1765051200@townofredingtonbeach.com
SUMMARY:RBPOA Holiday Tree Lighting
DESCRIPTION:Please Join us for the Redington Beach Holiday Tree Lighting with a Visit from Santa & Mrs Claus!\n\n\n\n\n\n\n\n\n\n\nSanta Claus is coming back to town! Time to Light Up the Lights!\n\n\n\n\n\n\n\n\n\n\nSaturday\, December 6\, 2025 \n4:45 PM – Party Starts at Redington Beach Town Park \nPictures with Santa & Mrs Claus (5 pm)\, Jingle Bells\, Music\, Hot Dogs\, Cookies courtesy of the Redington Beach Garden Club\, and… The Lights Go On (at full sunset)!
URL:https://townofredingtonbeach.com/event/rbpoa-holiday-tree-lighting/
CATEGORIES:Events
END:VEVENT
BEGIN:VEVENT
DTSTART;TZID=America/New_York:20251211T190000
DTEND;TZID=America/New_York:20251211T200000
DTSTAMP:20260421T105347
CREATED:20251205T154744Z
LAST-MODIFIED:20251205T154744Z
UID:10001034-1765479600-1765483200@townofredingtonbeach.com
SUMMARY:House Decorating Judging Thursday\, December 11th\, 2025
DESCRIPTION:Get ready for the Annual House Decorating Contest!\n \nPlease have your homes fully decorated by Friday\, December 5th. The judges will conduct an initial assessment of all decorated houses the weekend of December 6th and 7th to select those advancing for final prize consideration.\n \nPrizes and yard signs will be awarded to the 1st\, 2nd\, and 3rd Place winners.\n \nIf you have any questions\, please call the Redington Beach Town Hall at 727-391-3875.\n \n 
URL:https://townofredingtonbeach.com/event/house-decorating-judging-thursday-december-11th-2025/
CATEGORIES:Events
ATTACH;FMTTYPE=image/jpeg:https://cdn.townweb.com/townofredingtonbeach.com/wp-content/uploads/2025/12/House-pic-4-rotated.jpg
END:VEVENT
BEGIN:VEVENT
DTSTART;TZID=America/New_York:20251212T080000
DTEND;TZID=America/New_York:20251212T120000
DTSTAMP:20260421T105347
CREATED:20251205T143232Z
LAST-MODIFIED:20251208T144601Z
UID:10001023-1765526400-1765540800@townofredingtonbeach.com
SUMMARY:Town Hall Closing Early on 12/12/25
DESCRIPTION:Town Hall closing early for staff event \nFriday\, December 12th: 8am-noon \nIf you have an emergency\, please call 911.
URL:https://townofredingtonbeach.com/event/town-hall-holiday-hours/
CATEGORIES:Events
ATTACH;FMTTYPE=image/jpeg:https://cdn.townweb.com/townofredingtonbeach.com/wp-content/uploads/2025/12/More-christmas.jpg
END:VEVENT
BEGIN:VEVENT
DTSTART;TZID=America/New_York:20251223T080000
DTEND;TZID=America/New_York:20251226T120000
DTSTAMP:20260421T105347
CREATED:20251205T145230Z
LAST-MODIFIED:20251205T150402Z
UID:10001024-1766476800-1766750400@townofredingtonbeach.com
SUMMARY:Town Hall Holiday Hours
DESCRIPTION:Please note the reduced holiday hours: \nTuesday\, December 23rd:  8am-noon \nWednesday\, December 24th: CLOSED \nThursday\, December 25th: CLOSED \nFriday\, December 26th: 8am-noon \n 
URL:https://townofredingtonbeach.com/event/town-hall-holiday-hours-2/
CATEGORIES:Events
ATTACH;FMTTYPE=image/jpeg:https://cdn.townweb.com/townofredingtonbeach.com/wp-content/uploads/2025/12/Shell-Christmas-tree-on-beach-1.jpg
END:VEVENT
BEGIN:VEVENT
DTSTART;TZID=America/New_York:20251224T080000
DTEND;TZID=America/New_York:20251224T160000
DTSTAMP:20260421T105347
CREATED:20251205T150116Z
LAST-MODIFIED:20251205T150416Z
UID:10001029-1766563200-1766592000@townofredingtonbeach.com
SUMMARY:Town Hall Closed for Christmas Eve
DESCRIPTION:Town Hall will be closed on Wednesday\, December 24th in observance of the Christmas holiday.  \nWednesday\, December 24th: CLOSED \nThursday\, December 25th: CLOSED \nFriday\, December 26th: 8am-noon \nWednesday\, December 31st: 8am-noon \nThursday\, January 1st: CLOSED
URL:https://townofredingtonbeach.com/event/town-hall-closed-for-christmas-eve/
CATEGORIES:Events
END:VEVENT
BEGIN:VEVENT
DTSTART;TZID=America/New_York:20251225T080000
DTEND;TZID=America/New_York:20251225T160000
DTSTAMP:20260421T105347
CREATED:20251205T150226Z
LAST-MODIFIED:20251205T150440Z
UID:10001030-1766649600-1766678400@townofredingtonbeach.com
SUMMARY:Town Hall Closed for Christmas Day
DESCRIPTION:Town Hall will be closed Thursday\, December 25th in observance of Christmas Day. \nTuesday\, December 23rd:  8am-noon \nWednesday\, December 24th: CLOSED \nThursday\, December 25th: CLOSED \nFriday\, December 26th: 8am-noon \nWednesday\, December 31st: 8am-noon \nThursday\, January 1st: CLOSED
URL:https://townofredingtonbeach.com/event/town-hall-closed-for-christmas-day/
CATEGORIES:Events
END:VEVENT
BEGIN:VEVENT
DTSTART;TZID=America/New_York:20251226T080000
DTEND;TZID=America/New_York:20251226T120000
DTSTAMP:20260421T105347
CREATED:20251205T150334Z
LAST-MODIFIED:20251205T150334Z
UID:10001031-1766736000-1766750400@townofredingtonbeach.com
SUMMARY:Town Hall Holiday Hours
DESCRIPTION:Town Hall will close early on Friday December 26th. \nTuesday\, December 23rd:  8am-noon \nWednesday\, December 24th: CLOSED \nThursday\, December 25th: CLOSED \nFriday\, December 26th: 8am-noon \nWednesday\, December 31st: 8am-noon \nThursday\, January 1st: CLOSED
URL:https://townofredingtonbeach.com/event/town-hall-holiday-hours-3/
CATEGORIES:Events
END:VEVENT
BEGIN:VEVENT
DTSTART;TZID=America/New_York:20251231T080000
DTEND;TZID=America/New_York:20251231T120000
DTSTAMP:20260421T105347
CREATED:20251205T150608Z
LAST-MODIFIED:20251205T150608Z
UID:10001032-1767168000-1767182400@townofredingtonbeach.com
SUMMARY:Town Hall Holiday Hours
DESCRIPTION:Town Hall will close at noon on Wednesday\, December 31st. \nTuesday\, December 23rd:  8am-noon \nWednesday\, December 24th: CLOSED \nThursday\, December 25th: CLOSED \nFriday\, December 26th: 8am-noon \nWednesday\, December 31st: 8am-noon \nThursday\, January 1st: CLOSED
URL:https://townofredingtonbeach.com/event/town-hall-holiday-hours-4/
CATEGORIES:Events
END:VEVENT
END:VCALENDAR