BEGIN:VCALENDAR
VERSION:2.0
PRODID:-//Town of Redington Beach, Pinellas County, Florida - ECPv6.15.17.1//NONSGML v1.0//EN
CALSCALE:GREGORIAN
METHOD:PUBLISH
X-WR-CALNAME:Town of Redington Beach, Pinellas County, Florida
X-ORIGINAL-URL:https://townofredingtonbeach.com
X-WR-CALDESC:Events for Town of Redington Beach, Pinellas County, Florida
REFRESH-INTERVAL;VALUE=DURATION:PT1H
X-Robots-Tag:noindex
X-PUBLISHED-TTL:PT1H
BEGIN:VTIMEZONE
TZID:America/New_York
BEGIN:DAYLIGHT
TZOFFSETFROM:-0500
TZOFFSETTO:-0400
TZNAME:EDT
DTSTART:20250309T070000
END:DAYLIGHT
BEGIN:STANDARD
TZOFFSETFROM:-0400
TZOFFSETTO:-0500
TZNAME:EST
DTSTART:20251102T060000
END:STANDARD
BEGIN:DAYLIGHT
TZOFFSETFROM:-0500
TZOFFSETTO:-0400
TZNAME:EDT
DTSTART:20260308T070000
END:DAYLIGHT
BEGIN:STANDARD
TZOFFSETFROM:-0400
TZOFFSETTO:-0500
TZNAME:EST
DTSTART:20261101T060000
END:STANDARD
BEGIN:DAYLIGHT
TZOFFSETFROM:-0500
TZOFFSETTO:-0400
TZNAME:EDT
DTSTART:20270314T070000
END:DAYLIGHT
BEGIN:STANDARD
TZOFFSETFROM:-0400
TZOFFSETTO:-0500
TZNAME:EST
DTSTART:20271107T060000
END:STANDARD
END:VTIMEZONE
BEGIN:VEVENT
DTSTART;TZID=America/New_York:20260624T090000
DTEND;TZID=America/New_York:20260624T100000
DTSTAMP:20260419T233821
CREATED:20260415T194753Z
LAST-MODIFIED:20260415T194753Z
UID:10001380-1782291600-1782295200@townofredingtonbeach.com
SUMMARY:BIG C Meeting
DESCRIPTION:The Barrier Islands Governmental Council will meet on Wednesday\, June 24th\, 2026 at 9am at Indian Rocks Beach City Hall1507 Bay Palm Blvd. \nThe public is invited to attend. \nMore about BIG C HERE.
URL:https://townofredingtonbeach.com/event/big-c-meeting-4/
CATEGORIES:Meetings
ATTACH;FMTTYPE=image/png:https://cdn.townweb.com/townofredingtonbeach.com/wp-content/uploads/2026/04/logo.png
END:VEVENT
END:VCALENDAR