BEGIN:VCALENDAR
VERSION:2.0
PRODID:-//Town of Redington Beach, Pinellas County, Florida - ECPv6.15.17.1//NONSGML v1.0//EN
CALSCALE:GREGORIAN
METHOD:PUBLISH
X-WR-CALNAME:Town of Redington Beach, Pinellas County, Florida
X-ORIGINAL-URL:https://townofredingtonbeach.com
X-WR-CALDESC:Events for Town of Redington Beach, Pinellas County, Florida
REFRESH-INTERVAL;VALUE=DURATION:PT1H
X-Robots-Tag:noindex
X-PUBLISHED-TTL:PT1H
BEGIN:VTIMEZONE
TZID:America/Chicago
BEGIN:DAYLIGHT
TZOFFSETFROM:-0600
TZOFFSETTO:-0500
TZNAME:CDT
DTSTART:20140309T080000
END:DAYLIGHT
BEGIN:STANDARD
TZOFFSETFROM:-0500
TZOFFSETTO:-0600
TZNAME:CST
DTSTART:20141102T070000
END:STANDARD
BEGIN:DAYLIGHT
TZOFFSETFROM:-0600
TZOFFSETTO:-0500
TZNAME:CDT
DTSTART:20150308T080000
END:DAYLIGHT
BEGIN:STANDARD
TZOFFSETFROM:-0500
TZOFFSETTO:-0600
TZNAME:CST
DTSTART:20151101T070000
END:STANDARD
BEGIN:DAYLIGHT
TZOFFSETFROM:-0600
TZOFFSETTO:-0500
TZNAME:CDT
DTSTART:20160313T080000
END:DAYLIGHT
BEGIN:STANDARD
TZOFFSETFROM:-0500
TZOFFSETTO:-0600
TZNAME:CST
DTSTART:20161106T070000
END:STANDARD
END:VTIMEZONE
BEGIN:VEVENT
DTSTART;TZID=America/Chicago:20150901T190000
DTEND;TZID=America/Chicago:20150901T200000
DTSTAMP:20260422T203134
CREATED:20140401T230000Z
LAST-MODIFIED:20140401T230000Z
UID:10000139-1441134000-1441137600@townofredingtonbeach.com
SUMMARY:BOC
DESCRIPTION:
URL:https://townofredingtonbeach.com/event/boc-8/2015-09-01/
CATEGORIES:Town Board
END:VEVENT
BEGIN:VEVENT
DTSTART;TZID=America/Chicago:20150825T190000
DTEND;TZID=America/Chicago:20150825T200000
DTSTAMP:20260422T203134
CREATED:20150128T000000Z
LAST-MODIFIED:20150128T000000Z
UID:10000026-1440529200-1440532800@townofredingtonbeach.com
SUMMARY:Planning Board
DESCRIPTION:
URL:https://townofredingtonbeach.com/event/planning-board-2/2015-08-25/
CATEGORIES:Town Board
END:VEVENT
BEGIN:VEVENT
DTSTART;TZID=America/Chicago:20150818T190000
DTEND;TZID=America/Chicago:20150818T200000
DTSTAMP:20260422T203134
CREATED:20140415T230000Z
LAST-MODIFIED:20140415T230000Z
UID:10000117-1439924400-1439928000@townofredingtonbeach.com
SUMMARY:BOC
DESCRIPTION:
URL:https://townofredingtonbeach.com/event/boc-7/2015-08-18/
CATEGORIES:Town Board
END:VEVENT
BEGIN:VEVENT
DTSTART;TZID=America/Chicago:20150811T190000
DTEND;TZID=America/Chicago:20150811T200000
DTSTAMP:20260422T203134
CREATED:20150114T000000Z
LAST-MODIFIED:20150114T000000Z
UID:10000149-1439319600-1439323200@townofredingtonbeach.com
SUMMARY:Planning Board
DESCRIPTION:
URL:https://townofredingtonbeach.com/event/planning-board-3/2015-08-11/
CATEGORIES:Town Board
END:VEVENT
BEGIN:VEVENT
DTSTART;TZID=America/Chicago:20150804T190000
DTEND;TZID=America/Chicago:20150804T200000
DTSTAMP:20260422T203134
CREATED:20140401T230000Z
LAST-MODIFIED:20140401T230000Z
UID:10000138-1438714800-1438718400@townofredingtonbeach.com
SUMMARY:BOC
DESCRIPTION:
URL:https://townofredingtonbeach.com/event/boc-8/2015-08-04/
CATEGORIES:Town Board
END:VEVENT
BEGIN:VEVENT
DTSTART;TZID=America/Chicago:20150803T100000
DTEND;TZID=America/Chicago:20150803T110000
DTSTAMP:20260422T203135
CREATED:20150803T140000Z
LAST-MODIFIED:20150803T140000Z
UID:10000184-1438596000-1438599600@townofredingtonbeach.com
SUMMARY:Park Board
DESCRIPTION:
URL:https://townofredingtonbeach.com/event/park-board-8/2015-08-03/
CATEGORIES:Town Board
END:VEVENT
BEGIN:VEVENT
DTSTART;TZID=America/Chicago:20150728T190000
DTEND;TZID=America/Chicago:20150728T200000
DTSTAMP:20260422T203135
CREATED:20150128T000000Z
LAST-MODIFIED:20150128T000000Z
UID:10000025-1438110000-1438113600@townofredingtonbeach.com
SUMMARY:Planning Board
DESCRIPTION:
URL:https://townofredingtonbeach.com/event/planning-board-2/2015-07-28/
CATEGORIES:Town Board
END:VEVENT
BEGIN:VEVENT
DTSTART;TZID=America/Chicago:20150721T190000
DTEND;TZID=America/Chicago:20150721T200000
DTSTAMP:20260422T203135
CREATED:20140415T230000Z
LAST-MODIFIED:20140415T230000Z
UID:10000116-1437505200-1437508800@townofredingtonbeach.com
SUMMARY:BOC
DESCRIPTION:
URL:https://townofredingtonbeach.com/event/boc-7/2015-07-21/
CATEGORIES:Town Board
END:VEVENT
BEGIN:VEVENT
DTSTART;TZID=America/Chicago:20150714T190000
DTEND;TZID=America/Chicago:20150714T200000
DTSTAMP:20260422T203135
CREATED:20150114T000000Z
LAST-MODIFIED:20150114T000000Z
UID:10000148-1436900400-1436904000@townofredingtonbeach.com
SUMMARY:Planning Board
DESCRIPTION:
URL:https://townofredingtonbeach.com/event/planning-board-3/2015-07-14/
CATEGORIES:Town Board
END:VEVENT
BEGIN:VEVENT
DTSTART;TZID=America/Chicago:20150707T190000
DTEND;TZID=America/Chicago:20150707T200000
DTSTAMP:20260422T203135
CREATED:20140401T230000Z
LAST-MODIFIED:20140401T230000Z
UID:10000137-1436295600-1436299200@townofredingtonbeach.com
SUMMARY:BOC
DESCRIPTION:
URL:https://townofredingtonbeach.com/event/boc-8/2015-07-07/
CATEGORIES:Town Board
END:VEVENT
BEGIN:VEVENT
DTSTART;TZID=America/Chicago:20150623T190000
DTEND;TZID=America/Chicago:20150623T200000
DTSTAMP:20260422T203135
CREATED:20150128T000000Z
LAST-MODIFIED:20150128T000000Z
UID:10000024-1435086000-1435089600@townofredingtonbeach.com
SUMMARY:Planning Board
DESCRIPTION:
URL:https://townofredingtonbeach.com/event/planning-board-2/2015-06-23/
CATEGORIES:Town Board
END:VEVENT
BEGIN:VEVENT
DTSTART;TZID=America/Chicago:20150616T190000
DTEND;TZID=America/Chicago:20150616T200000
DTSTAMP:20260422T203135
CREATED:20140415T230000Z
LAST-MODIFIED:20140415T230000Z
UID:10000115-1434481200-1434484800@townofredingtonbeach.com
SUMMARY:BOC
DESCRIPTION:
URL:https://townofredingtonbeach.com/event/boc-7/2015-06-16/
CATEGORIES:Town Board
END:VEVENT
BEGIN:VEVENT
DTSTART;TZID=America/Chicago:20150615T120000
DTEND;TZID=America/Chicago:20150615T130000
DTSTAMP:20260422T203135
CREATED:20150615T160000Z
LAST-MODIFIED:20150615T160000Z
UID:10000181-1434369600-1434373200@townofredingtonbeach.com
SUMMARY:BOA - Deadline
DESCRIPTION:
URL:https://townofredingtonbeach.com/event/boa-deadline-2/
CATEGORIES:Town Board
END:VEVENT
BEGIN:VEVENT
DTSTART;TZID=America/Chicago:20150609T190000
DTEND;TZID=America/Chicago:20150609T200000
DTSTAMP:20260422T203135
CREATED:20150114T000000Z
LAST-MODIFIED:20150114T000000Z
UID:10000147-1433876400-1433880000@townofredingtonbeach.com
SUMMARY:Planning Board
DESCRIPTION:
URL:https://townofredingtonbeach.com/event/planning-board-3/2015-06-09/
CATEGORIES:Town Board
END:VEVENT
BEGIN:VEVENT
DTSTART;TZID=America/Chicago:20150602T190000
DTEND;TZID=America/Chicago:20150602T200000
DTSTAMP:20260422T203135
CREATED:20140401T230000Z
LAST-MODIFIED:20140401T230000Z
UID:10000136-1433271600-1433275200@townofredingtonbeach.com
SUMMARY:BOC
DESCRIPTION:
URL:https://townofredingtonbeach.com/event/boc-8/2015-06-02/
CATEGORIES:Town Board
END:VEVENT
BEGIN:VEVENT
DTSTART;TZID=America/Chicago:20150601T100000
DTEND;TZID=America/Chicago:20150601T110000
DTSTAMP:20260422T203135
CREATED:20140407T140000Z
LAST-MODIFIED:20140407T140000Z
UID:10000099-1433152800-1433156400@townofredingtonbeach.com
SUMMARY:Park Board
DESCRIPTION:
URL:https://townofredingtonbeach.com/event/park-board-10/2015-06-01/
CATEGORIES:Town Board
END:VEVENT
BEGIN:VEVENT
DTSTART;TZID=America/Chicago:20150526T190000
DTEND;TZID=America/Chicago:20150526T200000
DTSTAMP:20260422T203135
CREATED:20150128T000000Z
LAST-MODIFIED:20150128T000000Z
UID:10000023-1432666800-1432670400@townofredingtonbeach.com
SUMMARY:Planning Board
DESCRIPTION:
URL:https://townofredingtonbeach.com/event/planning-board-2/2015-05-26/
CATEGORIES:Town Board
END:VEVENT
BEGIN:VEVENT
DTSTART;TZID=America/Chicago:20150519T190000
DTEND;TZID=America/Chicago:20150519T200000
DTSTAMP:20260422T203135
CREATED:20140415T230000Z
LAST-MODIFIED:20140415T230000Z
UID:10000114-1432062000-1432065600@townofredingtonbeach.com
SUMMARY:BOC
DESCRIPTION:
URL:https://townofredingtonbeach.com/event/boc-7/2015-05-19/
CATEGORIES:Town Board
END:VEVENT
BEGIN:VEVENT
DTSTART;TZID=America/Chicago:20150518T120000
DTEND;TZID=America/Chicago:20150518T130000
DTSTAMP:20260422T203135
CREATED:20150518T160000Z
LAST-MODIFIED:20150518T160000Z
UID:10000008-1431950400-1431954000@townofredingtonbeach.com
SUMMARY:BOA Deadline
DESCRIPTION:
URL:https://townofredingtonbeach.com/event/boa-deadline-3/
CATEGORIES:Town Board
END:VEVENT
BEGIN:VEVENT
DTSTART;TZID=America/Chicago:20150512T190000
DTEND;TZID=America/Chicago:20150512T200000
DTSTAMP:20260422T203135
CREATED:20150114T000000Z
LAST-MODIFIED:20150114T000000Z
UID:10000146-1431457200-1431460800@townofredingtonbeach.com
SUMMARY:Planning Board
DESCRIPTION:
URL:https://townofredingtonbeach.com/event/planning-board-3/2015-05-12/
CATEGORIES:Town Board
END:VEVENT
BEGIN:VEVENT
DTSTART;TZID=America/Chicago:20150505T190000
DTEND;TZID=America/Chicago:20150505T200000
DTSTAMP:20260422T203135
CREATED:20140401T230000Z
LAST-MODIFIED:20140401T230000Z
UID:10000135-1430852400-1430856000@townofredingtonbeach.com
SUMMARY:BOC
DESCRIPTION:
URL:https://townofredingtonbeach.com/event/boc-8/2015-05-05/
CATEGORIES:Town Board
END:VEVENT
BEGIN:VEVENT
DTSTART;TZID=America/Chicago:20150504T100000
DTEND;TZID=America/Chicago:20150504T110000
DTSTAMP:20260422T203135
CREATED:20140407T140000Z
LAST-MODIFIED:20140407T140000Z
UID:10000098-1430733600-1430737200@townofredingtonbeach.com
SUMMARY:Park Board
DESCRIPTION:
URL:https://townofredingtonbeach.com/event/park-board-10/2015-05-04/
CATEGORIES:Town Board
END:VEVENT
BEGIN:VEVENT
DTSTART;TZID=America/Chicago:20150428T190000
DTEND;TZID=America/Chicago:20150428T200000
DTSTAMP:20260422T203135
CREATED:20150128T000000Z
LAST-MODIFIED:20150128T000000Z
UID:10000022-1430247600-1430251200@townofredingtonbeach.com
SUMMARY:Planning Board
DESCRIPTION:
URL:https://townofredingtonbeach.com/event/planning-board-2/2015-04-28/
CATEGORIES:Town Board
END:VEVENT
BEGIN:VEVENT
DTSTART;TZID=America/Chicago:20150421T190000
DTEND;TZID=America/Chicago:20150421T200000
DTSTAMP:20260422T203135
CREATED:20140415T230000Z
LAST-MODIFIED:20140415T230000Z
UID:10000113-1429642800-1429646400@townofredingtonbeach.com
SUMMARY:BOC
DESCRIPTION:
URL:https://townofredingtonbeach.com/event/boc-7/2015-04-21/
CATEGORIES:Town Board
END:VEVENT
BEGIN:VEVENT
DTSTART;TZID=America/Chicago:20150414T190000
DTEND;TZID=America/Chicago:20150414T200000
DTSTAMP:20260422T203135
CREATED:20150114T000000Z
LAST-MODIFIED:20150114T000000Z
UID:10000145-1429038000-1429041600@townofredingtonbeach.com
SUMMARY:Planning Board
DESCRIPTION:
URL:https://townofredingtonbeach.com/event/planning-board-3/2015-04-14/
CATEGORIES:Town Board
END:VEVENT
BEGIN:VEVENT
DTSTART;TZID=America/Chicago:20150407T190000
DTEND;TZID=America/Chicago:20150407T200000
DTSTAMP:20260422T203135
CREATED:20140401T230000Z
LAST-MODIFIED:20140401T230000Z
UID:10000134-1428433200-1428436800@townofredingtonbeach.com
SUMMARY:BOC
DESCRIPTION:
URL:https://townofredingtonbeach.com/event/boc-8/2015-04-07/
CATEGORIES:Town Board
END:VEVENT
BEGIN:VEVENT
DTSTART;TZID=America/Chicago:20150406T100000
DTEND;TZID=America/Chicago:20150406T110000
DTSTAMP:20260422T203135
CREATED:20140407T140000Z
LAST-MODIFIED:20140407T140000Z
UID:10000097-1428314400-1428318000@townofredingtonbeach.com
SUMMARY:Park Board
DESCRIPTION:
URL:https://townofredingtonbeach.com/event/park-board-10/2015-04-06/
CATEGORIES:Town Board
END:VEVENT
BEGIN:VEVENT
DTSTART;TZID=America/Chicago:20150324T190000
DTEND;TZID=America/Chicago:20150324T200000
DTSTAMP:20260422T203135
CREATED:20150128T000000Z
LAST-MODIFIED:20150128T000000Z
UID:10000021-1427223600-1427227200@townofredingtonbeach.com
SUMMARY:Planning Board
DESCRIPTION:
URL:https://townofredingtonbeach.com/event/planning-board-2/2015-03-24/
CATEGORIES:Town Board
END:VEVENT
BEGIN:VEVENT
DTSTART;TZID=America/Chicago:20150317T190000
DTEND;TZID=America/Chicago:20150317T200000
DTSTAMP:20260422T203135
CREATED:20140415T230000Z
LAST-MODIFIED:20140415T230000Z
UID:10000112-1426618800-1426622400@townofredingtonbeach.com
SUMMARY:BOC
DESCRIPTION:
URL:https://townofredingtonbeach.com/event/boc-7/2015-03-17/
CATEGORIES:Town Board
END:VEVENT
BEGIN:VEVENT
DTSTART;TZID=America/Chicago:20150316T120000
DTEND;TZID=America/Chicago:20150316T130000
DTSTAMP:20260422T203135
CREATED:20150316T160000Z
LAST-MODIFIED:20150316T160000Z
UID:10000002-1426507200-1426510800@townofredingtonbeach.com
SUMMARY:BOA Deadline
DESCRIPTION:
URL:https://townofredingtonbeach.com/event/boa-deadline-4/
CATEGORIES:Town Board
END:VEVENT
END:VCALENDAR