BEGIN:VCALENDAR
VERSION:2.0
PRODID:-//Town of Redington Beach, Pinellas County, Florida - ECPv6.15.17.1//NONSGML v1.0//EN
CALSCALE:GREGORIAN
METHOD:PUBLISH
X-WR-CALNAME:Town of Redington Beach, Pinellas County, Florida
X-ORIGINAL-URL:https://townofredingtonbeach.com
X-WR-CALDESC:Events for Town of Redington Beach, Pinellas County, Florida
REFRESH-INTERVAL;VALUE=DURATION:PT1H
X-Robots-Tag:noindex
X-PUBLISHED-TTL:PT1H
BEGIN:VTIMEZONE
TZID:America/Chicago
BEGIN:DAYLIGHT
TZOFFSETFROM:-0600
TZOFFSETTO:-0500
TZNAME:CDT
DTSTART:20140309T080000
END:DAYLIGHT
BEGIN:STANDARD
TZOFFSETFROM:-0500
TZOFFSETTO:-0600
TZNAME:CST
DTSTART:20141102T070000
END:STANDARD
BEGIN:DAYLIGHT
TZOFFSETFROM:-0600
TZOFFSETTO:-0500
TZNAME:CDT
DTSTART:20150308T080000
END:DAYLIGHT
BEGIN:STANDARD
TZOFFSETFROM:-0500
TZOFFSETTO:-0600
TZNAME:CST
DTSTART:20151101T070000
END:STANDARD
BEGIN:DAYLIGHT
TZOFFSETFROM:-0600
TZOFFSETTO:-0500
TZNAME:CDT
DTSTART:20160313T080000
END:DAYLIGHT
BEGIN:STANDARD
TZOFFSETFROM:-0500
TZOFFSETTO:-0600
TZNAME:CST
DTSTART:20161106T070000
END:STANDARD
END:VTIMEZONE
BEGIN:VEVENT
DTSTART;TZID=America/Chicago:20150404T094500
DTEND;TZID=America/Chicago:20150404T104500
DTSTAMP:20260420T070149
CREATED:20150404T134500Z
LAST-MODIFIED:20150404T134500Z
UID:10000006-1428140700-1428144300@townofredingtonbeach.com
SUMMARY:Easter Egg Hunt - Town Park
DESCRIPTION:
URL:https://townofredingtonbeach.com/event/easter-egg-hunt-town-park/
CATEGORIES:Events
END:VEVENT
BEGIN:VEVENT
DTSTART;TZID=America/Chicago:20150406T100000
DTEND;TZID=America/Chicago:20150406T110000
DTSTAMP:20260420T070149
CREATED:20140407T140000Z
LAST-MODIFIED:20140407T140000Z
UID:10000097-1428314400-1428318000@townofredingtonbeach.com
SUMMARY:Park Board
DESCRIPTION:
URL:https://townofredingtonbeach.com/event/park-board-10/2015-04-06/
CATEGORIES:Town Board
END:VEVENT
BEGIN:VEVENT
DTSTART;TZID=America/Chicago:20150407T190000
DTEND;TZID=America/Chicago:20150407T200000
DTSTAMP:20260420T070149
CREATED:20140401T230000Z
LAST-MODIFIED:20140401T230000Z
UID:10000134-1428433200-1428436800@townofredingtonbeach.com
SUMMARY:BOC
DESCRIPTION:
URL:https://townofredingtonbeach.com/event/boc-8/2015-04-07/
CATEGORIES:Town Board
END:VEVENT
BEGIN:VEVENT
DTSTART;TZID=America/Chicago:20150414T190000
DTEND;TZID=America/Chicago:20150414T200000
DTSTAMP:20260420T070149
CREATED:20150114T000000Z
LAST-MODIFIED:20150114T000000Z
UID:10000145-1429038000-1429041600@townofredingtonbeach.com
SUMMARY:Planning Board
DESCRIPTION:
URL:https://townofredingtonbeach.com/event/planning-board-3/2015-04-14/
CATEGORIES:Town Board
END:VEVENT
BEGIN:VEVENT
DTSTART;TZID=America/Chicago:20150416T100000
DTEND;TZID=America/Chicago:20150416T110000
DTSTAMP:20260420T070149
CREATED:20150115T150000Z
LAST-MODIFIED:20150115T150000Z
UID:10000083-1429178400-1429182000@townofredingtonbeach.com
SUMMARY:Garden Club
DESCRIPTION:
URL:https://townofredingtonbeach.com/event/garden-club/2015-04-16/
CATEGORIES:Meetings
END:VEVENT
BEGIN:VEVENT
DTSTART;TZID=America/Chicago:20150421T190000
DTEND;TZID=America/Chicago:20150421T200000
DTSTAMP:20260420T070149
CREATED:20140415T230000Z
LAST-MODIFIED:20140415T230000Z
UID:10000113-1429642800-1429646400@townofredingtonbeach.com
SUMMARY:BOC
DESCRIPTION:
URL:https://townofredingtonbeach.com/event/boc-7/2015-04-21/
CATEGORIES:Town Board
END:VEVENT
BEGIN:VEVENT
DTSTART;TZID=America/Chicago:20150428T190000
DTEND;TZID=America/Chicago:20150428T200000
DTSTAMP:20260420T070149
CREATED:20150128T000000Z
LAST-MODIFIED:20150128T000000Z
UID:10000022-1430247600-1430251200@townofredingtonbeach.com
SUMMARY:Planning Board
DESCRIPTION:
URL:https://townofredingtonbeach.com/event/planning-board-2/2015-04-28/
CATEGORIES:Town Board
END:VEVENT
BEGIN:VEVENT
DTSTART;VALUE=DATE:20150429
DTEND;VALUE=DATE:20150430
DTSTAMP:20260420T070149
CREATED:20150429T040000Z
LAST-MODIFIED:20150429T040000Z
UID:10000007-1430265600-1430351999@townofredingtonbeach.com
SUMMARY:Big C - Madeira Beach
DESCRIPTION:
URL:https://townofredingtonbeach.com/event/big-c-madeira-beach/
CATEGORIES:Meetings
END:VEVENT
END:VCALENDAR