BEGIN:VCALENDAR
VERSION:2.0
PRODID:-//Town of Redington Beach, Pinellas County, Florida - ECPv6.15.17.1//NONSGML v1.0//EN
CALSCALE:GREGORIAN
METHOD:PUBLISH
X-WR-CALNAME:Town of Redington Beach, Pinellas County, Florida
X-ORIGINAL-URL:https://townofredingtonbeach.com
X-WR-CALDESC:Events for Town of Redington Beach, Pinellas County, Florida
REFRESH-INTERVAL;VALUE=DURATION:PT1H
X-Robots-Tag:noindex
X-PUBLISHED-TTL:PT1H
BEGIN:VTIMEZONE
TZID:America/Chicago
BEGIN:DAYLIGHT
TZOFFSETFROM:-0600
TZOFFSETTO:-0500
TZNAME:CDT
DTSTART:20140309T080000
END:DAYLIGHT
BEGIN:STANDARD
TZOFFSETFROM:-0500
TZOFFSETTO:-0600
TZNAME:CST
DTSTART:20141102T070000
END:STANDARD
BEGIN:DAYLIGHT
TZOFFSETFROM:-0600
TZOFFSETTO:-0500
TZNAME:CDT
DTSTART:20150308T080000
END:DAYLIGHT
BEGIN:STANDARD
TZOFFSETFROM:-0500
TZOFFSETTO:-0600
TZNAME:CST
DTSTART:20151101T070000
END:STANDARD
BEGIN:DAYLIGHT
TZOFFSETFROM:-0600
TZOFFSETTO:-0500
TZNAME:CDT
DTSTART:20160313T080000
END:DAYLIGHT
BEGIN:STANDARD
TZOFFSETFROM:-0500
TZOFFSETTO:-0600
TZNAME:CST
DTSTART:20161106T070000
END:STANDARD
END:VTIMEZONE
BEGIN:VEVENT
DTSTART;TZID=America/Chicago:20151005T100000
DTEND;TZID=America/Chicago:20151005T110000
DTSTAMP:20260423T174356
CREATED:20150803T140000Z
LAST-MODIFIED:20150803T140000Z
UID:10000186-1444039200-1444042800@townofredingtonbeach.com
SUMMARY:Park Board
DESCRIPTION:
URL:https://townofredingtonbeach.com/event/park-board-8/2015-10-05/
CATEGORIES:Town Board
END:VEVENT
BEGIN:VEVENT
DTSTART;TZID=America/Chicago:20151006T190000
DTEND;TZID=America/Chicago:20151006T200000
DTSTAMP:20260423T174356
CREATED:20140401T230000Z
LAST-MODIFIED:20140401T230000Z
UID:10000140-1444158000-1444161600@townofredingtonbeach.com
SUMMARY:BOC
DESCRIPTION:
URL:https://townofredingtonbeach.com/event/boc-8/2015-10-06/
CATEGORIES:Town Board
END:VEVENT
BEGIN:VEVENT
DTSTART;TZID=America/Chicago:20151013T190000
DTEND;TZID=America/Chicago:20151013T200000
DTSTAMP:20260423T174356
CREATED:20150114T000000Z
LAST-MODIFIED:20150114T000000Z
UID:10000151-1444762800-1444766400@townofredingtonbeach.com
SUMMARY:Planning Board
DESCRIPTION:
URL:https://townofredingtonbeach.com/event/planning-board-3/2015-10-13/
CATEGORIES:Town Board
END:VEVENT
BEGIN:VEVENT
DTSTART;TZID=America/Chicago:20151020T190000
DTEND;TZID=America/Chicago:20151020T200000
DTSTAMP:20260423T174356
CREATED:20151020T230000Z
LAST-MODIFIED:20151020T230000Z
UID:10000200-1445367600-1445371200@townofredingtonbeach.com
SUMMARY:BOC
DESCRIPTION:
URL:https://townofredingtonbeach.com/event/boc-4/2015-10-20/
CATEGORIES:Town Board
END:VEVENT
BEGIN:VEVENT
DTSTART;VALUE=DATE:20151023
DTEND;VALUE=DATE:20151024
DTSTAMP:20260423T174356
CREATED:20151023T040000Z
LAST-MODIFIED:20151023T040000Z
UID:10000203-1445558400-1445644799@townofredingtonbeach.com
SUMMARY:Town Wide Garage Sale
DESCRIPTION:
URL:https://townofredingtonbeach.com/event/town-wide-garage-sale-3/2015-10-23/
CATEGORIES:Events
END:VEVENT
BEGIN:VEVENT
DTSTART;VALUE=DATE:20151024
DTEND;VALUE=DATE:20151025
DTSTAMP:20260423T174356
CREATED:20151023T040000Z
LAST-MODIFIED:20151023T040000Z
UID:10000204-1445644800-1445731199@townofredingtonbeach.com
SUMMARY:Town Wide Garage Sale
DESCRIPTION:
URL:https://townofredingtonbeach.com/event/town-wide-garage-sale-3/2015-10-24/
CATEGORIES:Events
END:VEVENT
BEGIN:VEVENT
DTSTART;TZID=America/Chicago:20151027T190000
DTEND;TZID=America/Chicago:20151027T200000
DTSTAMP:20260423T174356
CREATED:20150128T000000Z
LAST-MODIFIED:20150128T000000Z
UID:10000028-1445972400-1445976000@townofredingtonbeach.com
SUMMARY:Planning Board
DESCRIPTION:
URL:https://townofredingtonbeach.com/event/planning-board-2/2015-10-27/
CATEGORIES:Town Board
END:VEVENT
BEGIN:VEVENT
DTSTART;VALUE=DATE:20151028
DTEND;VALUE=DATE:20151029
DTSTAMP:20260423T174356
CREATED:20151028T040000Z
LAST-MODIFIED:20151028T040000Z
UID:10000205-1445990400-1446076799@townofredingtonbeach.com
SUMMARY:Big C
DESCRIPTION:
URL:https://townofredingtonbeach.com/event/big-c-2/
CATEGORIES:Meetings
END:VEVENT
END:VCALENDAR