BEGIN:VCALENDAR
VERSION:2.0
PRODID:-//Town of Redington Beach, Pinellas County, Florida - ECPv6.15.17.1//NONSGML v1.0//EN
CALSCALE:GREGORIAN
METHOD:PUBLISH
X-WR-CALNAME:Town of Redington Beach, Pinellas County, Florida
X-ORIGINAL-URL:https://townofredingtonbeach.com
X-WR-CALDESC:Events for Town of Redington Beach, Pinellas County, Florida
REFRESH-INTERVAL;VALUE=DURATION:PT1H
X-Robots-Tag:noindex
X-PUBLISHED-TTL:PT1H
BEGIN:VTIMEZONE
TZID:America/Chicago
BEGIN:DAYLIGHT
TZOFFSETFROM:-0600
TZOFFSETTO:-0500
TZNAME:CDT
DTSTART:20140309T080000
END:DAYLIGHT
BEGIN:STANDARD
TZOFFSETFROM:-0500
TZOFFSETTO:-0600
TZNAME:CST
DTSTART:20141102T070000
END:STANDARD
BEGIN:DAYLIGHT
TZOFFSETFROM:-0600
TZOFFSETTO:-0500
TZNAME:CDT
DTSTART:20150308T080000
END:DAYLIGHT
BEGIN:STANDARD
TZOFFSETFROM:-0500
TZOFFSETTO:-0600
TZNAME:CST
DTSTART:20151101T070000
END:STANDARD
BEGIN:DAYLIGHT
TZOFFSETFROM:-0600
TZOFFSETTO:-0500
TZNAME:CDT
DTSTART:20160313T080000
END:DAYLIGHT
BEGIN:STANDARD
TZOFFSETFROM:-0500
TZOFFSETTO:-0600
TZNAME:CST
DTSTART:20161106T070000
END:STANDARD
END:VTIMEZONE
BEGIN:VEVENT
DTSTART;TZID=America/Chicago:20151102T100000
DTEND;TZID=America/Chicago:20151102T110000
DTSTAMP:20260424T095830
CREATED:20150803T140000Z
LAST-MODIFIED:20150803T140000Z
UID:10000187-1446458400-1446462000@townofredingtonbeach.com
SUMMARY:Park Board
DESCRIPTION:
URL:https://townofredingtonbeach.com/event/park-board-8/2015-11-02/
CATEGORIES:Town Board
END:VEVENT
BEGIN:VEVENT
DTSTART;VALUE=DATE:20151103
DTEND;VALUE=DATE:20151104
DTSTAMP:20260424T095830
CREATED:20151103T050000Z
LAST-MODIFIED:20151103T050000Z
UID:10000206-1446508800-1446595199@townofredingtonbeach.com
SUMMARY:Election Day
DESCRIPTION:
URL:https://townofredingtonbeach.com/event/election-day/
CATEGORIES:Election
END:VEVENT
BEGIN:VEVENT
DTSTART;TZID=America/Chicago:20151110T190000
DTEND;TZID=America/Chicago:20151110T200000
DTSTAMP:20260424T095830
CREATED:20150114T000000Z
LAST-MODIFIED:20150114T000000Z
UID:10000152-1447182000-1447185600@townofredingtonbeach.com
SUMMARY:Planning Board
DESCRIPTION:
URL:https://townofredingtonbeach.com/event/planning-board-3/2015-11-10/
CATEGORIES:Town Board
END:VEVENT
BEGIN:VEVENT
DTSTART;TZID=America/Chicago:20151117T190000
DTEND;TZID=America/Chicago:20151117T200000
DTSTAMP:20260424T095830
CREATED:20151020T230000Z
LAST-MODIFIED:20151020T230000Z
UID:10000201-1447786800-1447790400@townofredingtonbeach.com
SUMMARY:BOC
DESCRIPTION:
URL:https://townofredingtonbeach.com/event/boc-4/2015-11-17/
CATEGORIES:Town Board
END:VEVENT
BEGIN:VEVENT
DTSTART;TZID=America/Chicago:20151124T190000
DTEND;TZID=America/Chicago:20151124T200000
DTSTAMP:20260424T095830
CREATED:20150128T000000Z
LAST-MODIFIED:20150128T000000Z
UID:10000029-1448391600-1448395200@townofredingtonbeach.com
SUMMARY:Planning Board
DESCRIPTION:
URL:https://townofredingtonbeach.com/event/planning-board-2/2015-11-24/
CATEGORIES:Town Board
END:VEVENT
BEGIN:VEVENT
DTSTART;VALUE=DATE:20151125
DTEND;VALUE=DATE:20151126
DTSTAMP:20260424T095830
CREATED:20151125T050000Z
LAST-MODIFIED:20151125T050000Z
UID:10000207-1448409600-1448495999@townofredingtonbeach.com
SUMMARY:Big C
DESCRIPTION:
URL:https://townofredingtonbeach.com/event/big-c/
CATEGORIES:Meetings
END:VEVENT
BEGIN:VEVENT
DTSTART;VALUE=DATE:20151126
DTEND;VALUE=DATE:20151127
DTSTAMP:20260424T095830
CREATED:20151126T050000Z
LAST-MODIFIED:20151126T050000Z
UID:10000208-1448496000-1448582399@townofredingtonbeach.com
SUMMARY:Holiday - Town Hall Closed
DESCRIPTION:
URL:https://townofredingtonbeach.com/event/holiday-town-hall-closed-13/2015-11-26/
CATEGORIES:Events
END:VEVENT
BEGIN:VEVENT
DTSTART;VALUE=DATE:20151127
DTEND;VALUE=DATE:20151128
DTSTAMP:20260424T095830
CREATED:20151126T050000Z
LAST-MODIFIED:20151126T050000Z
UID:10000209-1448582400-1448668799@townofredingtonbeach.com
SUMMARY:Holiday - Town Hall Closed
DESCRIPTION:
URL:https://townofredingtonbeach.com/event/holiday-town-hall-closed-13/2015-11-27/
CATEGORIES:Events
END:VEVENT
END:VCALENDAR