BEGIN:VCALENDAR
VERSION:2.0
PRODID:-//Town of Redington Beach, Pinellas County, Florida - ECPv6.15.17.1//NONSGML v1.0//EN
CALSCALE:GREGORIAN
METHOD:PUBLISH
X-WR-CALNAME:Town of Redington Beach, Pinellas County, Florida
X-ORIGINAL-URL:https://townofredingtonbeach.com
X-WR-CALDESC:Events for Town of Redington Beach, Pinellas County, Florida
REFRESH-INTERVAL;VALUE=DURATION:PT1H
X-Robots-Tag:noindex
X-PUBLISHED-TTL:PT1H
BEGIN:VTIMEZONE
TZID:America/Chicago
BEGIN:DAYLIGHT
TZOFFSETFROM:-0600
TZOFFSETTO:-0500
TZNAME:CDT
DTSTART:20150308T080000
END:DAYLIGHT
BEGIN:STANDARD
TZOFFSETFROM:-0500
TZOFFSETTO:-0600
TZNAME:CST
DTSTART:20151101T070000
END:STANDARD
BEGIN:DAYLIGHT
TZOFFSETFROM:-0600
TZOFFSETTO:-0500
TZNAME:CDT
DTSTART:20160313T080000
END:DAYLIGHT
BEGIN:STANDARD
TZOFFSETFROM:-0500
TZOFFSETTO:-0600
TZNAME:CST
DTSTART:20161106T070000
END:STANDARD
BEGIN:DAYLIGHT
TZOFFSETFROM:-0600
TZOFFSETTO:-0500
TZNAME:CDT
DTSTART:20170312T080000
END:DAYLIGHT
BEGIN:STANDARD
TZOFFSETFROM:-0500
TZOFFSETTO:-0600
TZNAME:CST
DTSTART:20171105T070000
END:STANDARD
END:VTIMEZONE
BEGIN:VEVENT
DTSTART;TZID=America/Chicago:20160801T080000
DTEND;TZID=America/Chicago:20160801T170000
DTSTAMP:20260421T145147
CREATED:20160801T120000Z
LAST-MODIFIED:20160801T120000Z
UID:10000238-1470038400-1470070800@townofredingtonbeach.com
SUMMARY:Deadline to Register to Vote in Primary
DESCRIPTION:Primary
URL:https://townofredingtonbeach.com/event/deadline-to-register-to-vote-in-primary/
CATEGORIES:Election
END:VEVENT
BEGIN:VEVENT
DTSTART;TZID=America/Chicago:20160801T100000
DTEND;TZID=America/Chicago:20160801T110000
DTSTAMP:20260421T145147
CREATED:20160801T140000Z
LAST-MODIFIED:20160801T140000Z
UID:10000239-1470045600-1470049200@townofredingtonbeach.com
SUMMARY:Park Board
DESCRIPTION:
URL:https://townofredingtonbeach.com/event/park-board-4/
CATEGORIES:Town Board
END:VEVENT
BEGIN:VEVENT
DTSTART;TZID=America/Chicago:20160803T190000
DTEND;TZID=America/Chicago:20160803T200000
DTSTAMP:20260421T145147
CREATED:20160504T230000Z
LAST-MODIFIED:20160504T230000Z
UID:10000220-1470250800-1470254400@townofredingtonbeach.com
SUMMARY:BOC
DESCRIPTION:
URL:https://townofredingtonbeach.com/event/boc-2/2016-08-03/
CATEGORIES:Town Board
END:VEVENT
BEGIN:VEVENT
DTSTART;TZID=America/Chicago:20160809T190000
DTEND;TZID=America/Chicago:20160809T200000
DTSTAMP:20260421T145147
CREATED:20150114T000000Z
LAST-MODIFIED:20150114T000000Z
UID:10000161-1470769200-1470772800@townofredingtonbeach.com
SUMMARY:Planning Board
DESCRIPTION:
URL:https://townofredingtonbeach.com/event/planning-board-3/2016-08-09/
CATEGORIES:Town Board
END:VEVENT
BEGIN:VEVENT
DTSTART;TZID=America/Chicago:20160817T190000
DTEND;TZID=America/Chicago:20160817T200000
DTSTAMP:20260421T145147
CREATED:20160518T230000Z
LAST-MODIFIED:20160518T230000Z
UID:10000228-1471460400-1471464000@townofredingtonbeach.com
SUMMARY:BOC
DESCRIPTION:
URL:https://townofredingtonbeach.com/event/boc/2016-08-17/
CATEGORIES:Town Board
END:VEVENT
BEGIN:VEVENT
DTSTART;TZID=America/Chicago:20160818T190000
DTEND;TZID=America/Chicago:20160818T200000
DTSTAMP:20260421T145147
CREATED:20160818T230000Z
LAST-MODIFIED:20160818T230000Z
UID:10000240-1471546800-1471550400@townofredingtonbeach.com
SUMMARY:BOA
DESCRIPTION:
URL:https://townofredingtonbeach.com/event/boa/2016-08-18/
CATEGORIES:Town Board
END:VEVENT
BEGIN:VEVENT
DTSTART;TZID=America/Chicago:20160823T190000
DTEND;TZID=America/Chicago:20160823T200000
DTSTAMP:20260421T145147
CREATED:20150128T000000Z
LAST-MODIFIED:20150128T000000Z
UID:10000038-1471978800-1471982400@townofredingtonbeach.com
SUMMARY:Planning Board
DESCRIPTION:
URL:https://townofredingtonbeach.com/event/planning-board-2/2016-08-23/
CATEGORIES:Town Board
END:VEVENT
BEGIN:VEVENT
DTSTART;TZID=America/Chicago:20160830T080000
DTEND;TZID=America/Chicago:20160830T160000
DTSTAMP:20260421T145147
CREATED:20160830T120000Z
LAST-MODIFIED:20160830T120000Z
UID:10000245-1472544000-1472572800@townofredingtonbeach.com
SUMMARY:Primary Elections
DESCRIPTION:Assembly Hall
URL:https://townofredingtonbeach.com/event/primary-elections/
CATEGORIES:Election
END:VEVENT
END:VCALENDAR