BEGIN:VCALENDAR
VERSION:2.0
PRODID:-//Town of Redington Beach, Pinellas County, Florida - ECPv6.15.17.1//NONSGML v1.0//EN
CALSCALE:GREGORIAN
METHOD:PUBLISH
X-WR-CALNAME:Town of Redington Beach, Pinellas County, Florida
X-ORIGINAL-URL:https://townofredingtonbeach.com
X-WR-CALDESC:Events for Town of Redington Beach, Pinellas County, Florida
REFRESH-INTERVAL;VALUE=DURATION:PT1H
X-Robots-Tag:noindex
X-PUBLISHED-TTL:PT1H
BEGIN:VTIMEZONE
TZID:America/Chicago
BEGIN:DAYLIGHT
TZOFFSETFROM:-0600
TZOFFSETTO:-0500
TZNAME:CDT
DTSTART:20150308T080000
END:DAYLIGHT
BEGIN:STANDARD
TZOFFSETFROM:-0500
TZOFFSETTO:-0600
TZNAME:CST
DTSTART:20151101T070000
END:STANDARD
BEGIN:DAYLIGHT
TZOFFSETFROM:-0600
TZOFFSETTO:-0500
TZNAME:CDT
DTSTART:20160313T080000
END:DAYLIGHT
BEGIN:STANDARD
TZOFFSETFROM:-0500
TZOFFSETTO:-0600
TZNAME:CST
DTSTART:20161106T070000
END:STANDARD
BEGIN:DAYLIGHT
TZOFFSETFROM:-0600
TZOFFSETTO:-0500
TZNAME:CDT
DTSTART:20170312T080000
END:DAYLIGHT
BEGIN:STANDARD
TZOFFSETFROM:-0500
TZOFFSETTO:-0600
TZNAME:CST
DTSTART:20171105T070000
END:STANDARD
END:VTIMEZONE
BEGIN:VEVENT
DTSTART;TZID=America/Chicago:20160905T080000
DTEND;TZID=America/Chicago:20160905T090000
DTSTAMP:20260423T074756
CREATED:20160905T120000Z
LAST-MODIFIED:20160905T120000Z
UID:10000246-1473062400-1473066000@townofredingtonbeach.com
SUMMARY:Holiday - Town Hall Closed
DESCRIPTION:
URL:https://townofredingtonbeach.com/event/holiday-town-hall-closed-10/
CATEGORIES:Events
END:VEVENT
BEGIN:VEVENT
DTSTART;TZID=America/Chicago:20160907T190000
DTEND;TZID=America/Chicago:20160907T200000
DTSTAMP:20260423T074756
CREATED:20160504T230000Z
LAST-MODIFIED:20160504T230000Z
UID:10000221-1473274800-1473278400@townofredingtonbeach.com
SUMMARY:BOC
DESCRIPTION:
URL:https://townofredingtonbeach.com/event/boc-2/2016-09-07/
CATEGORIES:Town Board
END:VEVENT
BEGIN:VEVENT
DTSTART;TZID=America/Chicago:20160912T100000
DTEND;TZID=America/Chicago:20160912T110000
DTSTAMP:20260423T074756
CREATED:20160912T140000Z
LAST-MODIFIED:20160912T140000Z
UID:10000247-1473674400-1473678000@townofredingtonbeach.com
SUMMARY:Park Board
DESCRIPTION:
URL:https://townofredingtonbeach.com/event/park-board-3/
CATEGORIES:Town Board
END:VEVENT
BEGIN:VEVENT
DTSTART;TZID=America/Chicago:20160913T190000
DTEND;TZID=America/Chicago:20160913T200000
DTSTAMP:20260423T074756
CREATED:20150114T000000Z
LAST-MODIFIED:20150114T000000Z
UID:10000162-1473793200-1473796800@townofredingtonbeach.com
SUMMARY:Planning Board
DESCRIPTION:
URL:https://townofredingtonbeach.com/event/planning-board-3/2016-09-13/
CATEGORIES:Town Board
END:VEVENT
BEGIN:VEVENT
DTSTART;TZID=America/Chicago:20160915T190000
DTEND;TZID=America/Chicago:20160915T200000
DTSTAMP:20260423T074756
CREATED:20160818T230000Z
LAST-MODIFIED:20160818T230000Z
UID:10000241-1473966000-1473969600@townofredingtonbeach.com
SUMMARY:BOA
DESCRIPTION:
URL:https://townofredingtonbeach.com/event/boa/2016-09-15/
CATEGORIES:Town Board
END:VEVENT
BEGIN:VEVENT
DTSTART;TZID=America/Chicago:20160919T130000
DTEND;TZID=America/Chicago:20160919T140000
DTSTAMP:20260423T074756
CREATED:20160919T170000Z
LAST-MODIFIED:20160919T170000Z
UID:10000248-1474290000-1474293600@townofredingtonbeach.com
SUMMARY:Park Board
DESCRIPTION:Assembly Hall
URL:https://townofredingtonbeach.com/event/park-board-2/
CATEGORIES:Town Board
END:VEVENT
BEGIN:VEVENT
DTSTART;TZID=America/Chicago:20160921T190000
DTEND;TZID=America/Chicago:20160921T200000
DTSTAMP:20260423T074756
CREATED:20160518T230000Z
LAST-MODIFIED:20160518T230000Z
UID:10000229-1474484400-1474488000@townofredingtonbeach.com
SUMMARY:BOC
DESCRIPTION:
URL:https://townofredingtonbeach.com/event/boc/2016-09-21/
CATEGORIES:Town Board
END:VEVENT
BEGIN:VEVENT
DTSTART;TZID=America/Chicago:20160927T190000
DTEND;TZID=America/Chicago:20160927T200000
DTSTAMP:20260423T074756
CREATED:20150128T000000Z
LAST-MODIFIED:20150128T000000Z
UID:10000039-1475002800-1475006400@townofredingtonbeach.com
SUMMARY:Planning Board
DESCRIPTION:
URL:https://townofredingtonbeach.com/event/planning-board-2/2016-09-27/
CATEGORIES:Town Board
END:VEVENT
END:VCALENDAR