BEGIN:VCALENDAR
VERSION:2.0
PRODID:-//Town of Redington Beach, Pinellas County, Florida - ECPv6.15.17.1//NONSGML v1.0//EN
CALSCALE:GREGORIAN
METHOD:PUBLISH
X-WR-CALNAME:Town of Redington Beach, Pinellas County, Florida
X-ORIGINAL-URL:https://townofredingtonbeach.com
X-WR-CALDESC:Events for Town of Redington Beach, Pinellas County, Florida
REFRESH-INTERVAL;VALUE=DURATION:PT1H
X-Robots-Tag:noindex
X-PUBLISHED-TTL:PT1H
BEGIN:VTIMEZONE
TZID:America/Chicago
BEGIN:DAYLIGHT
TZOFFSETFROM:-0600
TZOFFSETTO:-0500
TZNAME:CDT
DTSTART:20150308T080000
END:DAYLIGHT
BEGIN:STANDARD
TZOFFSETFROM:-0500
TZOFFSETTO:-0600
TZNAME:CST
DTSTART:20151101T070000
END:STANDARD
BEGIN:DAYLIGHT
TZOFFSETFROM:-0600
TZOFFSETTO:-0500
TZNAME:CDT
DTSTART:20160313T080000
END:DAYLIGHT
BEGIN:STANDARD
TZOFFSETFROM:-0500
TZOFFSETTO:-0600
TZNAME:CST
DTSTART:20161106T070000
END:STANDARD
BEGIN:DAYLIGHT
TZOFFSETFROM:-0600
TZOFFSETTO:-0500
TZNAME:CDT
DTSTART:20170312T080000
END:DAYLIGHT
BEGIN:STANDARD
TZOFFSETFROM:-0500
TZOFFSETTO:-0600
TZNAME:CST
DTSTART:20171105T070000
END:STANDARD
END:VTIMEZONE
BEGIN:VEVENT
DTSTART;TZID=America/Chicago:20161102T190000
DTEND;TZID=America/Chicago:20161102T200000
DTSTAMP:20260423T100602
CREATED:20160504T230000Z
LAST-MODIFIED:20160504T230000Z
UID:10000223-1478113200-1478116800@townofredingtonbeach.com
SUMMARY:BOC
DESCRIPTION:
URL:https://townofredingtonbeach.com/event/boc-2/2016-11-02/
CATEGORIES:Town Board
END:VEVENT
BEGIN:VEVENT
DTSTART;TZID=America/Chicago:20161107T100000
DTEND;TZID=America/Chicago:20161107T110000
DTSTAMP:20260423T100602
CREATED:20161003T140000Z
LAST-MODIFIED:20161003T140000Z
UID:10000253-1478512800-1478516400@townofredingtonbeach.com
SUMMARY:Park Board
DESCRIPTION:
URL:https://townofredingtonbeach.com/event/park-board/2016-11-07/
CATEGORIES:Town Board
END:VEVENT
BEGIN:VEVENT
DTSTART;TZID=America/Chicago:20161108T190000
DTEND;TZID=America/Chicago:20161108T200000
DTSTAMP:20260423T100602
CREATED:20150114T000000Z
LAST-MODIFIED:20150114T000000Z
UID:10000164-1478631600-1478635200@townofredingtonbeach.com
SUMMARY:Planning Board
DESCRIPTION:
URL:https://townofredingtonbeach.com/event/planning-board-3/2016-11-08/
CATEGORIES:Town Board
END:VEVENT
BEGIN:VEVENT
DTSTART;TZID=America/Chicago:20161111T080000
DTEND;TZID=America/Chicago:20161111T090000
DTSTAMP:20260423T100602
CREATED:20161111T130000Z
LAST-MODIFIED:20161111T130000Z
UID:10000263-1478851200-1478854800@townofredingtonbeach.com
SUMMARY:Holiday-Town Hall Closed
DESCRIPTION:
URL:https://townofredingtonbeach.com/event/holiday-town-hall-closed-9/
CATEGORIES:Events
END:VEVENT
BEGIN:VEVENT
DTSTART;TZID=America/Chicago:20161116T190000
DTEND;TZID=America/Chicago:20161116T200000
DTSTAMP:20260423T100602
CREATED:20160518T230000Z
LAST-MODIFIED:20160518T230000Z
UID:10000231-1479322800-1479326400@townofredingtonbeach.com
SUMMARY:BOC
DESCRIPTION:
URL:https://townofredingtonbeach.com/event/boc/2016-11-16/
CATEGORIES:Town Board
END:VEVENT
BEGIN:VEVENT
DTSTART;TZID=America/Chicago:20161117T190000
DTEND;TZID=America/Chicago:20161117T200000
DTSTAMP:20260423T100602
CREATED:20160818T230000Z
LAST-MODIFIED:20160818T230000Z
UID:10000243-1479409200-1479412800@townofredingtonbeach.com
SUMMARY:BOA
DESCRIPTION:
URL:https://townofredingtonbeach.com/event/boa/2016-11-17/
CATEGORIES:Town Board
END:VEVENT
BEGIN:VEVENT
DTSTART;TZID=America/Chicago:20161122T190000
DTEND;TZID=America/Chicago:20161122T200000
DTSTAMP:20260423T100602
CREATED:20150128T000000Z
LAST-MODIFIED:20150128T000000Z
UID:10000041-1479841200-1479844800@townofredingtonbeach.com
SUMMARY:Planning Board
DESCRIPTION:
URL:https://townofredingtonbeach.com/event/planning-board-2/2016-11-22/
CATEGORIES:Town Board
END:VEVENT
BEGIN:VEVENT
DTSTART;VALUE=DATE:20161124
DTEND;VALUE=DATE:20161125
DTSTAMP:20260423T100602
CREATED:20161124T050000Z
LAST-MODIFIED:20161124T050000Z
UID:10000265-1479945600-1480031999@townofredingtonbeach.com
SUMMARY:Holiday-Town Hall Closed
DESCRIPTION:
URL:https://townofredingtonbeach.com/event/holiday-town-hall-closed-8/2016-11-24/
CATEGORIES:Events
END:VEVENT
BEGIN:VEVENT
DTSTART;VALUE=DATE:20161125
DTEND;VALUE=DATE:20161126
DTSTAMP:20260423T100602
CREATED:20161124T050000Z
LAST-MODIFIED:20161124T050000Z
UID:10000266-1480032000-1480118399@townofredingtonbeach.com
SUMMARY:Holiday-Town Hall Closed
DESCRIPTION:
URL:https://townofredingtonbeach.com/event/holiday-town-hall-closed-8/2016-11-25/
CATEGORIES:Events
END:VEVENT
END:VCALENDAR