BEGIN:VCALENDAR
VERSION:2.0
PRODID:-//Town of Redington Beach, Pinellas County, Florida - ECPv6.15.17.1//NONSGML v1.0//EN
CALSCALE:GREGORIAN
METHOD:PUBLISH
X-WR-CALNAME:Town of Redington Beach, Pinellas County, Florida
X-ORIGINAL-URL:https://townofredingtonbeach.com
X-WR-CALDESC:Events for Town of Redington Beach, Pinellas County, Florida
REFRESH-INTERVAL;VALUE=DURATION:PT1H
X-Robots-Tag:noindex
X-PUBLISHED-TTL:PT1H
BEGIN:VTIMEZONE
TZID:America/Chicago
BEGIN:DAYLIGHT
TZOFFSETFROM:-0600
TZOFFSETTO:-0500
TZNAME:CDT
DTSTART:20150308T080000
END:DAYLIGHT
BEGIN:STANDARD
TZOFFSETFROM:-0500
TZOFFSETTO:-0600
TZNAME:CST
DTSTART:20151101T070000
END:STANDARD
BEGIN:DAYLIGHT
TZOFFSETFROM:-0600
TZOFFSETTO:-0500
TZNAME:CDT
DTSTART:20160313T080000
END:DAYLIGHT
BEGIN:STANDARD
TZOFFSETFROM:-0500
TZOFFSETTO:-0600
TZNAME:CST
DTSTART:20161106T070000
END:STANDARD
BEGIN:DAYLIGHT
TZOFFSETFROM:-0600
TZOFFSETTO:-0500
TZNAME:CDT
DTSTART:20170312T080000
END:DAYLIGHT
BEGIN:STANDARD
TZOFFSETFROM:-0500
TZOFFSETTO:-0600
TZNAME:CST
DTSTART:20171105T070000
END:STANDARD
END:VTIMEZONE
BEGIN:VEVENT
DTSTART;TZID=America/Chicago:20161203T164500
DTEND;TZID=America/Chicago:20161203T184500
DTSTAMP:20260419T185205
CREATED:20161203T214500Z
LAST-MODIFIED:20161203T214500Z
UID:10000268-1480783500-1480790700@townofredingtonbeach.com
SUMMARY:Holiday Tree Lighting
DESCRIPTION:Town Park\nMusic\, Festivities\, Visit with Santa
URL:https://townofredingtonbeach.com/event/holiday-tree-lighting/
CATEGORIES:Events
END:VEVENT
BEGIN:VEVENT
DTSTART;TZID=America/Chicago:20161205T100000
DTEND;TZID=America/Chicago:20161205T110000
DTSTAMP:20260419T185205
CREATED:20161003T140000Z
LAST-MODIFIED:20161003T140000Z
UID:10000254-1480932000-1480935600@townofredingtonbeach.com
SUMMARY:Park Board
DESCRIPTION:
URL:https://townofredingtonbeach.com/event/park-board/2016-12-05/
CATEGORIES:Town Board
END:VEVENT
BEGIN:VEVENT
DTSTART;TZID=America/Chicago:20161207T190000
DTEND;TZID=America/Chicago:20161207T200000
DTSTAMP:20260419T185205
CREATED:20160504T230000Z
LAST-MODIFIED:20160504T230000Z
UID:10000224-1481137200-1481140800@townofredingtonbeach.com
SUMMARY:BOC
DESCRIPTION:
URL:https://townofredingtonbeach.com/event/boc-2/2016-12-07/
CATEGORIES:Town Board
END:VEVENT
BEGIN:VEVENT
DTSTART;VALUE=DATE:20161211
DTEND;VALUE=DATE:20161212
DTSTAMP:20260419T185205
CREATED:20161211T050000Z
LAST-MODIFIED:20161211T050000Z
UID:10000270-1481414400-1481500799@townofredingtonbeach.com
SUMMARY:Holiday Boat Parade
DESCRIPTION:
URL:https://townofredingtonbeach.com/event/holiday-boat-parade/
CATEGORIES:Events
END:VEVENT
BEGIN:VEVENT
DTSTART;TZID=America/Chicago:20161213T190000
DTEND;TZID=America/Chicago:20161213T200000
DTSTAMP:20260419T185205
CREATED:20150114T000000Z
LAST-MODIFIED:20150114T000000Z
UID:10000165-1481655600-1481659200@townofredingtonbeach.com
SUMMARY:Planning Board
DESCRIPTION:
URL:https://townofredingtonbeach.com/event/planning-board-3/2016-12-13/
CATEGORIES:Town Board
END:VEVENT
BEGIN:VEVENT
DTSTART;TZID=America/Chicago:20161215T190000
DTEND;TZID=America/Chicago:20161215T200000
DTSTAMP:20260419T185205
CREATED:20160818T230000Z
LAST-MODIFIED:20160818T230000Z
UID:10000244-1481828400-1481832000@townofredingtonbeach.com
SUMMARY:BOA
DESCRIPTION:
URL:https://townofredingtonbeach.com/event/boa/2016-12-15/
CATEGORIES:Town Board
END:VEVENT
BEGIN:VEVENT
DTSTART;TZID=America/Chicago:20161221T190000
DTEND;TZID=America/Chicago:20161221T200000
DTSTAMP:20260419T185205
CREATED:20161222T000000Z
LAST-MODIFIED:20161222T000000Z
UID:10000271-1482346800-1482350400@townofredingtonbeach.com
SUMMARY:BOC - Cancelled
DESCRIPTION:
URL:https://townofredingtonbeach.com/event/boc-cancelled/
CATEGORIES:Town Board
END:VEVENT
BEGIN:VEVENT
DTSTART;VALUE=DATE:20161223
DTEND;VALUE=DATE:20161224
DTSTAMP:20260419T185205
CREATED:20161223T050000Z
LAST-MODIFIED:20161223T050000Z
UID:10000272-1482451200-1482537599@townofredingtonbeach.com
SUMMARY:Holiday - Town Hall Closed
DESCRIPTION:
URL:https://townofredingtonbeach.com/event/holiday-town-hall-closed-7/
CATEGORIES:Events
END:VEVENT
BEGIN:VEVENT
DTSTART;TZID=America/Chicago:20161227T190000
DTEND;TZID=America/Chicago:20161227T200000
DTSTAMP:20260419T185205
CREATED:20150128T000000Z
LAST-MODIFIED:20150128T000000Z
UID:10000042-1482865200-1482868800@townofredingtonbeach.com
SUMMARY:Planning Board
DESCRIPTION:
URL:https://townofredingtonbeach.com/event/planning-board-2/2016-12-27/
CATEGORIES:Town Board
END:VEVENT
END:VCALENDAR