BEGIN:VCALENDAR
VERSION:2.0
PRODID:-//Town of Redington Beach, Pinellas County, Florida - ECPv6.15.17.1//NONSGML v1.0//EN
CALSCALE:GREGORIAN
METHOD:PUBLISH
X-WR-CALNAME:Town of Redington Beach, Pinellas County, Florida
X-ORIGINAL-URL:https://townofredingtonbeach.com
X-WR-CALDESC:Events for Town of Redington Beach, Pinellas County, Florida
REFRESH-INTERVAL;VALUE=DURATION:PT1H
X-Robots-Tag:noindex
X-PUBLISHED-TTL:PT1H
BEGIN:VTIMEZONE
TZID:America/Chicago
BEGIN:DAYLIGHT
TZOFFSETFROM:-0600
TZOFFSETTO:-0500
TZNAME:CDT
DTSTART:20160313T080000
END:DAYLIGHT
BEGIN:STANDARD
TZOFFSETFROM:-0500
TZOFFSETTO:-0600
TZNAME:CST
DTSTART:20161106T070000
END:STANDARD
BEGIN:DAYLIGHT
TZOFFSETFROM:-0600
TZOFFSETTO:-0500
TZNAME:CDT
DTSTART:20170312T080000
END:DAYLIGHT
BEGIN:STANDARD
TZOFFSETFROM:-0500
TZOFFSETTO:-0600
TZNAME:CST
DTSTART:20171105T070000
END:STANDARD
BEGIN:DAYLIGHT
TZOFFSETFROM:-0600
TZOFFSETTO:-0500
TZNAME:CDT
DTSTART:20180311T080000
END:DAYLIGHT
BEGIN:STANDARD
TZOFFSETFROM:-0500
TZOFFSETTO:-0600
TZNAME:CST
DTSTART:20181104T070000
END:STANDARD
END:VTIMEZONE
BEGIN:VEVENT
DTSTART;TZID=America/Chicago:20170807T100000
DTEND;TZID=America/Chicago:20170807T120000
DTSTAMP:20260420T130014
CREATED:20170206T150000Z
LAST-MODIFIED:20180912T121707Z
UID:10000286-1502100000-1502107200@townofredingtonbeach.com
SUMMARY:Park Board Meeting
DESCRIPTION:Held in the Assembly Hall
URL:https://townofredingtonbeach.com/event/park-board-meeting/2017-08-07/
CATEGORIES:Parks and Recreation Board
END:VEVENT
BEGIN:VEVENT
DTSTART;TZID=America/Chicago:20170814T180000
DTEND;TZID=America/Chicago:20170814T190000
DTSTAMP:20260420T130014
CREATED:20170213T230000Z
LAST-MODIFIED:20170213T230000Z
UID:10000328-1502733600-1502737200@townofredingtonbeach.com
SUMMARY:RBPOA Board Meeting 6:00pm
DESCRIPTION:The Board of the Redington Beach Property Owners will meet at Town Hall at 6:00pm
URL:https://townofredingtonbeach.com/event/rbpoa-board-meeting-600pm/2017-08-14/
CATEGORIES:Meetings
END:VEVENT
BEGIN:VEVENT
DTSTART;TZID=America/Chicago:20170821T080000
DTEND;TZID=America/Chicago:20170821T120000
DTSTAMP:20260420T130014
CREATED:20170821T120000Z
LAST-MODIFIED:20170821T120000Z
UID:10000343-1503302400-1503316800@townofredingtonbeach.com
SUMMARY:Variance Application Deadline
DESCRIPTION:IN ORDER TO MEET THE DEADLINE FOR THE NEXT \nBOARD OF ADJUSTMENT HEARING \nON SEPTEMBER 21\, 2017 APPLICATIONS \nMUST BE RECEIVED AT TOWN HALL \nNO LATER THAN: \n NOON \nMONDAY\, AUGUST 21\, 2017 \n APPLICATIONS AVAILABLE AT TOWN HALL \nOR CLICK HERE FOR APPLICATION
URL:https://townofredingtonbeach.com/event/variance-application-deadline-6/
CATEGORIES:Town Board
END:VEVENT
END:VCALENDAR