BEGIN:VCALENDAR
VERSION:2.0
PRODID:-//Town of Redington Beach, Pinellas County, Florida - ECPv6.15.17.1//NONSGML v1.0//EN
CALSCALE:GREGORIAN
METHOD:PUBLISH
X-WR-CALNAME:Town of Redington Beach, Pinellas County, Florida
X-ORIGINAL-URL:https://townofredingtonbeach.com
X-WR-CALDESC:Events for Town of Redington Beach, Pinellas County, Florida
REFRESH-INTERVAL;VALUE=DURATION:PT1H
X-Robots-Tag:noindex
X-PUBLISHED-TTL:PT1H
BEGIN:VTIMEZONE
TZID:America/Chicago
BEGIN:DAYLIGHT
TZOFFSETFROM:-0600
TZOFFSETTO:-0500
TZNAME:CDT
DTSTART:20160313T080000
END:DAYLIGHT
BEGIN:STANDARD
TZOFFSETFROM:-0500
TZOFFSETTO:-0600
TZNAME:CST
DTSTART:20161106T070000
END:STANDARD
BEGIN:DAYLIGHT
TZOFFSETFROM:-0600
TZOFFSETTO:-0500
TZNAME:CDT
DTSTART:20170312T080000
END:DAYLIGHT
BEGIN:STANDARD
TZOFFSETFROM:-0500
TZOFFSETTO:-0600
TZNAME:CST
DTSTART:20171105T070000
END:STANDARD
BEGIN:DAYLIGHT
TZOFFSETFROM:-0600
TZOFFSETTO:-0500
TZNAME:CDT
DTSTART:20180311T080000
END:DAYLIGHT
BEGIN:STANDARD
TZOFFSETFROM:-0500
TZOFFSETTO:-0600
TZNAME:CST
DTSTART:20181104T070000
END:STANDARD
END:VTIMEZONE
BEGIN:VEVENT
DTSTART;VALUE=DATE:20170904
DTEND;VALUE=DATE:20170905
DTSTAMP:20260420T210005
CREATED:20170904T040000Z
LAST-MODIFIED:20170904T040000Z
UID:10000344-1504483200-1504569599@townofredingtonbeach.com
SUMMARY:Holiday - Town Hall Closed
DESCRIPTION:Town Hall will be closed in observance of Labor Day on Monday\, September 4th\, 2017.  Town Hall will reopen at 8am on Tuesday\, September 5th\, 2017.
URL:https://townofredingtonbeach.com/event/holiday-town-hall-closed-5/
CATEGORIES:Events
END:VEVENT
BEGIN:VEVENT
DTSTART;TZID=America/Chicago:20170904T100000
DTEND;TZID=America/Chicago:20170904T120000
DTSTAMP:20260420T210005
CREATED:20170206T150000Z
LAST-MODIFIED:20180912T121707Z
UID:10000287-1504519200-1504526400@townofredingtonbeach.com
SUMMARY:Park Board Meeting
DESCRIPTION:Held in the Assembly Hall
URL:https://townofredingtonbeach.com/event/park-board-meeting/2017-09-04/
CATEGORIES:Parks and Recreation Board
END:VEVENT
BEGIN:VEVENT
DTSTART;VALUE=DATE:20170907
DTEND;VALUE=DATE:20170910
DTSTAMP:20260420T210005
CREATED:20170907T040000Z
LAST-MODIFIED:20170907T040000Z
UID:10000346-1504742400-1505001599@townofredingtonbeach.com
SUMMARY:Trash Service
DESCRIPTION:Trash Service will be picked up on Friday\, September 8\, prior to Hurricane Irma.
URL:https://townofredingtonbeach.com/event/trash-service-2/
CATEGORIES:Garbage & Recycling
END:VEVENT
BEGIN:VEVENT
DTSTART;VALUE=DATE:20170907
DTEND;VALUE=DATE:20170912
DTSTAMP:20260420T210005
CREATED:20170907T040000Z
LAST-MODIFIED:20170907T040000Z
UID:10000345-1504742400-1505174399@townofredingtonbeach.com
SUMMARY:Trash Service
DESCRIPTION:Trash service will be picked up on Friday\, September 8th\, prior to Hurricane Irma and the mandatory evacuation.
URL:https://townofredingtonbeach.com/event/trash-service/
END:VEVENT
BEGIN:VEVENT
DTSTART;TZID=America/Chicago:20170911T180000
DTEND;TZID=America/Chicago:20170911T190000
DTSTAMP:20260420T210005
CREATED:20170213T230000Z
LAST-MODIFIED:20170213T230000Z
UID:10000329-1505152800-1505156400@townofredingtonbeach.com
SUMMARY:RBPOA Board Meeting 6:00pm
DESCRIPTION:The Board of the Redington Beach Property Owners will meet at Town Hall at 6:00pm
URL:https://townofredingtonbeach.com/event/rbpoa-board-meeting-600pm/2017-09-11/
CATEGORIES:Meetings
END:VEVENT
BEGIN:VEVENT
DTSTART;TZID=America/Chicago:20170918T080000
DTEND;TZID=America/Chicago:20170918T120000
DTSTAMP:20260420T210005
CREATED:20170918T120000Z
LAST-MODIFIED:20170918T120000Z
UID:10000347-1505721600-1505736000@townofredingtonbeach.com
SUMMARY:Variance Application Deadline
DESCRIPTION:IN ORDER TO MEET THE DEADLINE FOR THE NEXT \nBOARD OF ADJUSTMENT HEARING \nON OCTOBER 19\, 2017 APPLICATIONS \nMUST BE RECEIVED AT TOWN HALL \nNO LATER THAN: \n NOON \nMONDAY\, SEPTEMBER 18\, 2017 \n APPLICATIONS AVAILABLE AT TOWN HALL \nOR CLICK HERE FOR APPLICATION
URL:https://townofredingtonbeach.com/event/variance-application-deadline-5/
CATEGORIES:Town Board
END:VEVENT
END:VCALENDAR