BEGIN:VCALENDAR
VERSION:2.0
PRODID:-//Town of Redington Beach, Pinellas County, Florida - ECPv6.15.17.1//NONSGML v1.0//EN
CALSCALE:GREGORIAN
METHOD:PUBLISH
X-WR-CALNAME:Town of Redington Beach, Pinellas County, Florida
X-ORIGINAL-URL:https://townofredingtonbeach.com
X-WR-CALDESC:Events for Town of Redington Beach, Pinellas County, Florida
REFRESH-INTERVAL;VALUE=DURATION:PT1H
X-Robots-Tag:noindex
X-PUBLISHED-TTL:PT1H
BEGIN:VTIMEZONE
TZID:America/Chicago
BEGIN:DAYLIGHT
TZOFFSETFROM:-0600
TZOFFSETTO:-0500
TZNAME:CDT
DTSTART:20170312T080000
END:DAYLIGHT
BEGIN:STANDARD
TZOFFSETFROM:-0500
TZOFFSETTO:-0600
TZNAME:CST
DTSTART:20171105T070000
END:STANDARD
BEGIN:DAYLIGHT
TZOFFSETFROM:-0600
TZOFFSETTO:-0500
TZNAME:CDT
DTSTART:20180311T080000
END:DAYLIGHT
BEGIN:STANDARD
TZOFFSETFROM:-0500
TZOFFSETTO:-0600
TZNAME:CST
DTSTART:20181104T070000
END:STANDARD
BEGIN:DAYLIGHT
TZOFFSETFROM:-0600
TZOFFSETTO:-0500
TZNAME:CDT
DTSTART:20190310T080000
END:DAYLIGHT
BEGIN:STANDARD
TZOFFSETFROM:-0500
TZOFFSETTO:-0600
TZNAME:CST
DTSTART:20191103T070000
END:STANDARD
END:VTIMEZONE
BEGIN:VEVENT
DTSTART;TZID=America/Chicago:20180305T100000
DTEND;TZID=America/Chicago:20180305T120000
DTSTAMP:20260420T174959
CREATED:20170206T150000Z
LAST-MODIFIED:20180912T121707Z
UID:10000293-1520244000-1520251200@townofredingtonbeach.com
SUMMARY:Park Board Meeting
DESCRIPTION:Held in the Assembly Hall
URL:https://townofredingtonbeach.com/event/park-board-meeting/2018-03-05/
CATEGORIES:Parks and Recreation Board
END:VEVENT
BEGIN:VEVENT
DTSTART;TZID=America/Chicago:20180306T190000
DTEND;TZID=America/Chicago:20180306T200000
DTSTAMP:20260420T174959
CREATED:20180306T184026Z
LAST-MODIFIED:20180306T184026Z
UID:10000414-1520362800-1520366400@townofredingtonbeach.com
SUMMARY:Planning and Zoning Board Meeting 7pm
DESCRIPTION:The Planning and Zoning Board will meet in the Assembly Hall at 7pm.
URL:https://townofredingtonbeach.com/event/planning-and-zoning-board-meeting-7pm/
CATEGORIES:Meetings
END:VEVENT
BEGIN:VEVENT
DTSTART;TZID=America/Chicago:20180307T183000
DTEND;TZID=America/Chicago:20180307T190000
DTSTAMP:20260420T174959
CREATED:20180103T233000Z
LAST-MODIFIED:20181115T181730Z
UID:10000375-1520447400-1520449200@townofredingtonbeach.com
SUMMARY:Board of Commissioners
DESCRIPTION:
URL:https://townofredingtonbeach.com/event/board-of-commissioners/2018-03-07/
CATEGORIES:Town Board
END:VEVENT
BEGIN:VEVENT
DTSTART;TZID=America/Chicago:20180313T070000
DTEND;TZID=America/Chicago:20180313T190000
DTSTAMP:20260420T174959
CREATED:20180306T185106Z
LAST-MODIFIED:20180306T185106Z
UID:10000259-1520924400-1520967600@townofredingtonbeach.com
SUMMARY:Election Day - March 13th\, 2018
DESCRIPTION:Election Day will be held on Tuesday\, March 13th\, 2018. \nThere are 2 Commission seats up for election and 3 candidates vying for the positions. \nThe candidates are Dave Will\, Tom Dorgan and Laura Barnett. \nPolls open at 7am and close at 7pm. \nMail ballots must be received by 7 p.m. Election Day in any Elections Office\, not your Precinct. \nAny questions about voting or voter registration should be directed to: \nDeborah Clark\, Supervisor of Elections\, Pinellas County\n13001 Starkey Rd.\, Largo\, FL 33773\nPhone (727) 464-VOTE (8683) * Fax (727) 464-6239 * Email: Election@VotePinellas.com \n  \n 
URL:https://townofredingtonbeach.com/event/election-day-march-13th-2018/
CATEGORIES:Election
END:VEVENT
BEGIN:VEVENT
DTSTART;TZID=America/Chicago:20180319T080000
DTEND;TZID=America/Chicago:20180319T120000
DTSTAMP:20260420T174959
CREATED:20180319T120000Z
LAST-MODIFIED:20180319T120000Z
UID:10000262-1521446400-1521460800@townofredingtonbeach.com
SUMMARY:Deadline for Variance Applications
DESCRIPTION:IN ORDER TO MEET THE DEADLINE FOR THE NEXT BOARD OF ADJUSTMENT HEARING \nON APRIL 19\, 2018 \n APPLICATIONS MUST BE RECEIVED AT TOWN HALL \nNO LATER THAN: NOON\, MONDAY\, MARCH 19\, 2018
URL:https://townofredingtonbeach.com/event/deadline-for-variance-applications-10/
CATEGORIES:Town Board
END:VEVENT
BEGIN:VEVENT
DTSTART;TZID=America/Chicago:20180321T183000
DTEND;TZID=America/Chicago:20180321T190000
DTSTAMP:20260420T174959
CREATED:20171220T233000Z
LAST-MODIFIED:20171220T233000Z
UID:10000361-1521657000-1521658800@townofredingtonbeach.com
SUMMARY:Board of Commissioners
DESCRIPTION:
URL:https://townofredingtonbeach.com/event/board-of-commissioners-2/2018-03-21/
CATEGORIES:Town Board
END:VEVENT
BEGIN:VEVENT
DTSTART;TZID=America/Chicago:20180323T080000
DTEND;TZID=America/Chicago:20180324T180000
DTSTAMP:20260420T174959
CREATED:20171020T110000Z
LAST-MODIFIED:20171020T110000Z
UID:10000349-1521792000-1521914400@townofredingtonbeach.com
SUMMARY:2018 TOWN WIDE GARAGE SALE - MARCH 23rd and 24th
DESCRIPTION:
URL:https://townofredingtonbeach.com/event/2018-town-wide-garage-sale-march-23rd-and-24th/
CATEGORIES:Events
END:VEVENT
BEGIN:VEVENT
DTSTART;TZID=America/Chicago:20180330T080000
DTEND;TZID=America/Chicago:20180330T160000
DTSTAMP:20260420T174959
CREATED:20180316T182458Z
LAST-MODIFIED:20180316T182458Z
UID:10000260-1522396800-1522425600@townofredingtonbeach.com
SUMMARY:RBPOA Scholarship Application Deadline March 30th
DESCRIPTION:All scholarship applications must be received by email\, US mail or in person by 4pm on Friday\, March 30th.
URL:https://townofredingtonbeach.com/event/rbpoa-scholarship-application-deadline-march-30th/
CATEGORIES:Events
END:VEVENT
END:VCALENDAR