BEGIN:VCALENDAR
VERSION:2.0
PRODID:-//Town of Redington Beach, Pinellas County, Florida - ECPv6.15.17.1//NONSGML v1.0//EN
CALSCALE:GREGORIAN
METHOD:PUBLISH
X-WR-CALNAME:Town of Redington Beach, Pinellas County, Florida
X-ORIGINAL-URL:https://townofredingtonbeach.com
X-WR-CALDESC:Events for Town of Redington Beach, Pinellas County, Florida
REFRESH-INTERVAL;VALUE=DURATION:PT1H
X-Robots-Tag:noindex
X-PUBLISHED-TTL:PT1H
BEGIN:VTIMEZONE
TZID:America/Chicago
BEGIN:DAYLIGHT
TZOFFSETFROM:-0600
TZOFFSETTO:-0500
TZNAME:CDT
DTSTART:20170312T080000
END:DAYLIGHT
BEGIN:STANDARD
TZOFFSETFROM:-0500
TZOFFSETTO:-0600
TZNAME:CST
DTSTART:20171105T070000
END:STANDARD
BEGIN:DAYLIGHT
TZOFFSETFROM:-0600
TZOFFSETTO:-0500
TZNAME:CDT
DTSTART:20180311T080000
END:DAYLIGHT
BEGIN:STANDARD
TZOFFSETFROM:-0500
TZOFFSETTO:-0600
TZNAME:CST
DTSTART:20181104T070000
END:STANDARD
BEGIN:DAYLIGHT
TZOFFSETFROM:-0600
TZOFFSETTO:-0500
TZNAME:CDT
DTSTART:20190310T080000
END:DAYLIGHT
BEGIN:STANDARD
TZOFFSETFROM:-0500
TZOFFSETTO:-0600
TZNAME:CST
DTSTART:20191103T070000
END:STANDARD
END:VTIMEZONE
BEGIN:VEVENT
DTSTART;TZID=America/Chicago:20180501T190000
DTEND;TZID=America/Chicago:20180501T200000
DTSTAMP:20260425T084834
CREATED:20180413T183443Z
LAST-MODIFIED:20180413T183443Z
UID:10000249-1525201200-1525204800@townofredingtonbeach.com
SUMMARY:Planning Board Meeting May 1\, 2018
DESCRIPTION:There will be a meeting of the Planning Board on Tuesday\, May 1st at 7pm.
URL:https://townofredingtonbeach.com/event/planning-board-meeting-may-1-2018/
CATEGORIES:Meetings
END:VEVENT
BEGIN:VEVENT
DTSTART;TZID=America/Chicago:20180502T183000
DTEND;TZID=America/Chicago:20180502T190000
DTSTAMP:20260425T084834
CREATED:20180103T233000Z
LAST-MODIFIED:20181115T181730Z
UID:10000377-1525285800-1525287600@townofredingtonbeach.com
SUMMARY:Board of Commissioners
DESCRIPTION:
URL:https://townofredingtonbeach.com/event/board-of-commissioners/2018-05-02/
CATEGORIES:Town Board
END:VEVENT
BEGIN:VEVENT
DTSTART;TZID=America/Chicago:20180507T100000
DTEND;TZID=America/Chicago:20180507T120000
DTSTAMP:20260425T084834
CREATED:20170206T150000Z
LAST-MODIFIED:20180912T121707Z
UID:10000295-1525687200-1525694400@townofredingtonbeach.com
SUMMARY:Park Board Meeting
DESCRIPTION:Held in the Assembly Hall
URL:https://townofredingtonbeach.com/event/park-board-meeting/2018-05-07/
CATEGORIES:Parks and Recreation Board
END:VEVENT
BEGIN:VEVENT
DTSTART;TZID=America/Chicago:20180515T190000
DTEND;TZID=America/Chicago:20180515T200000
DTSTAMP:20260425T084834
CREATED:20180502T120727Z
LAST-MODIFIED:20180502T120727Z
UID:10000255-1526410800-1526414400@townofredingtonbeach.com
SUMMARY:PLANNING BOARD MEETING 5/15/18\, 7pm
DESCRIPTION:The Planning Board will meet to review and update the Town’s Comprehensive Plan.
URL:https://townofredingtonbeach.com/event/planning-board-meeting-5-15-18-7pm/
CATEGORIES:Meetings
END:VEVENT
BEGIN:VEVENT
DTSTART;TZID=America/Chicago:20180516T183000
DTEND;TZID=America/Chicago:20180516T190000
DTSTAMP:20260425T084834
CREATED:20171220T233000Z
LAST-MODIFIED:20171220T233000Z
UID:10000363-1526495400-1526497200@townofredingtonbeach.com
SUMMARY:Board of Commissioners
DESCRIPTION:
URL:https://townofredingtonbeach.com/event/board-of-commissioners-2/2018-05-16/
CATEGORIES:Town Board
END:VEVENT
BEGIN:VEVENT
DTSTART;TZID=America/Chicago:20180521T080000
DTEND;TZID=America/Chicago:20180521T120000
DTSTAMP:20260425T084834
CREATED:20180504T120000Z
LAST-MODIFIED:20180504T120000Z
UID:10000256-1526889600-1526904000@townofredingtonbeach.com
SUMMARY:Deadline for Variance Applications
DESCRIPTION:IN ORDER TO MEET THE DEADLINE FOR THE NEXT BOARD OF ADJUSTMENT HEARING \nON JUNE 21\, 2018 \n APPLICATIONS MUST BE RECEIVED AT TOWN HALL \nNO LATER THAN: NOON\, MONDAY\, MAY 21\, 2018
URL:https://townofredingtonbeach.com/event/deadline-for-variance-applications/
CATEGORIES:Town Board
END:VEVENT
END:VCALENDAR