BEGIN:VCALENDAR
VERSION:2.0
PRODID:-//Town of Redington Beach, Pinellas County, Florida - ECPv6.15.17.1//NONSGML v1.0//EN
CALSCALE:GREGORIAN
METHOD:PUBLISH
X-WR-CALNAME:Town of Redington Beach, Pinellas County, Florida
X-ORIGINAL-URL:https://townofredingtonbeach.com
X-WR-CALDESC:Events for Town of Redington Beach, Pinellas County, Florida
REFRESH-INTERVAL;VALUE=DURATION:PT1H
X-Robots-Tag:noindex
X-PUBLISHED-TTL:PT1H
BEGIN:VTIMEZONE
TZID:America/Chicago
BEGIN:DAYLIGHT
TZOFFSETFROM:-0600
TZOFFSETTO:-0500
TZNAME:CDT
DTSTART:20170312T080000
END:DAYLIGHT
BEGIN:STANDARD
TZOFFSETFROM:-0500
TZOFFSETTO:-0600
TZNAME:CST
DTSTART:20171105T070000
END:STANDARD
BEGIN:DAYLIGHT
TZOFFSETFROM:-0600
TZOFFSETTO:-0500
TZNAME:CDT
DTSTART:20180311T080000
END:DAYLIGHT
BEGIN:STANDARD
TZOFFSETFROM:-0500
TZOFFSETTO:-0600
TZNAME:CST
DTSTART:20181104T070000
END:STANDARD
BEGIN:DAYLIGHT
TZOFFSETFROM:-0600
TZOFFSETTO:-0500
TZNAME:CDT
DTSTART:20190310T080000
END:DAYLIGHT
BEGIN:STANDARD
TZOFFSETFROM:-0500
TZOFFSETTO:-0600
TZNAME:CST
DTSTART:20191103T070000
END:STANDARD
END:VTIMEZONE
BEGIN:VEVENT
DTSTART;TZID=America/Chicago:20181103T180000
DTEND;TZID=America/Chicago:20181103T220000
DTSTAMP:20260419T122749
CREATED:20161105T040000Z
LAST-MODIFIED:20161105T040000Z
UID:10000261-1541268000-1541282400@townofredingtonbeach.com
SUMMARY:WINE AND FOOD GALA 6pm
DESCRIPTION:RBPOA Annual fundraiser to support their scholarship fund and other social events.  Local food vendors serving up samples of their signature dishes\, in addition to unlimited wine and beer\, over 100 silent auction items and great music.
URL:https://townofredingtonbeach.com/event/wine-and-food-gala-6pm/
CATEGORIES:Events
END:VEVENT
BEGIN:VEVENT
DTSTART;TZID=America/Chicago:20181107T100000
DTEND;TZID=America/Chicago:20181107T103000
DTSTAMP:20260419T122749
CREATED:20181105T172420Z
LAST-MODIFIED:20181105T172420Z
UID:10000455-1541584800-1541586600@townofredingtonbeach.com
SUMMARY:Parks and Recreation Board Meeting 10am
DESCRIPTION:
URL:https://townofredingtonbeach.com/event/parks-and-recreation-board-meeting-10am-2/
CATEGORIES:Parks and Recreation Board
END:VEVENT
BEGIN:VEVENT
DTSTART;TZID=America/Chicago:20181107T183000
DTEND;TZID=America/Chicago:20181107T190000
DTSTAMP:20260419T122749
CREATED:20180103T233000Z
LAST-MODIFIED:20181115T181730Z
UID:10000383-1541615400-1541617200@townofredingtonbeach.com
SUMMARY:Board of Commissioners
DESCRIPTION:
URL:https://townofredingtonbeach.com/event/board-of-commissioners/2018-11-07/
CATEGORIES:Town Board
END:VEVENT
BEGIN:VEVENT
DTSTART;VALUE=DATE:20181112
DTEND;VALUE=DATE:20181113
DTSTAMP:20260419T122749
CREATED:20171110T050000Z
LAST-MODIFIED:20180924T114845Z
UID:10000350-1541980800-1542067199@townofredingtonbeach.com
SUMMARY:Holiday - Town Hall Closed
DESCRIPTION:Town Hall offices will be closed in observance of Veteran’s Day.
URL:https://townofredingtonbeach.com/event/holiday-town-hall-closed-4/
CATEGORIES:Events
END:VEVENT
BEGIN:VEVENT
DTSTART;TZID=America/Chicago:20181113T190000
DTEND;TZID=America/Chicago:20181113T200000
DTSTAMP:20260419T122749
CREATED:20181105T174157Z
LAST-MODIFIED:20181105T174157Z
UID:10000456-1542135600-1542139200@townofredingtonbeach.com
SUMMARY:Planning Board Meeting 7pm
DESCRIPTION:
URL:https://townofredingtonbeach.com/event/planning-board-meeting-7pm-5/
CATEGORIES:Town Board
END:VEVENT
BEGIN:VEVENT
DTSTART;TZID=America/Chicago:20181119T080000
DTEND;TZID=America/Chicago:20181119T120000
DTSTAMP:20260419T122749
CREATED:20180504T120000Z
LAST-MODIFIED:20180504T120000Z
UID:10000426-1542614400-1542628800@townofredingtonbeach.com
SUMMARY:Deadline for Variance Applications
DESCRIPTION:IN ORDER TO MEET THE DEADLINE FOR THE NEXT BOARD OF ADJUSTMENT HEARING \nON DECEMBER 20\, 2018 \n APPLICATIONS MUST BE RECEIVED AT TOWN HALL \nNO LATER THAN: NOON\, MONDAY\, NOVEMBER 19\, 2018
URL:https://townofredingtonbeach.com/event/deadline-for-variance-applications-7/
CATEGORIES:Town Board
END:VEVENT
BEGIN:VEVENT
DTSTART;TZID=America/Chicago:20181121T183000
DTEND;TZID=America/Chicago:20181121T190000
DTSTAMP:20260419T122749
CREATED:20181115T181533Z
LAST-MODIFIED:20181115T181533Z
UID:10000457-1542825000-1542826800@townofredingtonbeach.com
SUMMARY:Board of Commissioners - CANCELLED
DESCRIPTION:
URL:https://townofredingtonbeach.com/event/board-of-commissioners-cancelled/
CATEGORIES:Town Board
END:VEVENT
BEGIN:VEVENT
DTSTART;VALUE=DATE:20181122
DTEND;VALUE=DATE:20181124
DTSTAMP:20260419T122749
CREATED:20171123T050000Z
LAST-MODIFIED:20180924T115026Z
UID:10000352-1542844800-1543017599@townofredingtonbeach.com
SUMMARY:Holiday- Town Hall Closed
DESCRIPTION:Town Hall offices will be closed in observance of Thanksgiving.
URL:https://townofredingtonbeach.com/event/holiday-town-hall-closed-3/2018-11-22/
CATEGORIES:Events
END:VEVENT
BEGIN:VEVENT
DTSTART;TZID=America/Chicago:20181123T080000
DTEND;TZID=America/Chicago:20181123T160000
DTSTAMP:20260419T122749
CREATED:20181120T120659Z
LAST-MODIFIED:20181120T120659Z
UID:10000458-1542960000-1542988800@townofredingtonbeach.com
SUMMARY:Town Hall Offices Closed
DESCRIPTION:Town Hall offices will be closed Thursday\, November 22nd and Friday\, November 23rd in Observance of the Thanksgiving holiday.
URL:https://townofredingtonbeach.com/event/town-hall-offices-closed-4/
END:VEVENT
END:VCALENDAR