BEGIN:VCALENDAR
VERSION:2.0
PRODID:-//Town of Redington Beach, Pinellas County, Florida - ECPv6.15.17.1//NONSGML v1.0//EN
CALSCALE:GREGORIAN
METHOD:PUBLISH
X-WR-CALNAME:Town of Redington Beach, Pinellas County, Florida
X-ORIGINAL-URL:https://townofredingtonbeach.com
X-WR-CALDESC:Events for Town of Redington Beach, Pinellas County, Florida
REFRESH-INTERVAL;VALUE=DURATION:PT1H
X-Robots-Tag:noindex
X-PUBLISHED-TTL:PT1H
BEGIN:VTIMEZONE
TZID:America/New_York
BEGIN:DAYLIGHT
TZOFFSETFROM:-0500
TZOFFSETTO:-0400
TZNAME:EDT
DTSTART:20210314T070000
END:DAYLIGHT
BEGIN:STANDARD
TZOFFSETFROM:-0400
TZOFFSETTO:-0500
TZNAME:EST
DTSTART:20211107T060000
END:STANDARD
BEGIN:DAYLIGHT
TZOFFSETFROM:-0500
TZOFFSETTO:-0400
TZNAME:EDT
DTSTART:20220313T070000
END:DAYLIGHT
BEGIN:STANDARD
TZOFFSETFROM:-0400
TZOFFSETTO:-0500
TZNAME:EST
DTSTART:20221106T060000
END:STANDARD
BEGIN:DAYLIGHT
TZOFFSETFROM:-0500
TZOFFSETTO:-0400
TZNAME:EDT
DTSTART:20230312T070000
END:DAYLIGHT
BEGIN:STANDARD
TZOFFSETFROM:-0400
TZOFFSETTO:-0500
TZNAME:EST
DTSTART:20231105T060000
END:STANDARD
END:VTIMEZONE
BEGIN:VEVENT
DTSTART;TZID=America/New_York:20220418T080000
DTEND;TZID=America/New_York:20220418T120000
DTSTAMP:20260422T185207
CREATED:20220223T152923Z
LAST-MODIFIED:20220223T152923Z
UID:6065-1650268800-1650283200@townofredingtonbeach.com
SUMMARY:DEADLINE FOR VARIANCE APPLICATIONS
DESCRIPTION:IN ORDER TO MEET THE DEADLINE FOR THE NEXT  \nBOARD OF ADJUSTMENT HEARING \nON MAY 19\, 2022  \nAPPLICATIONS MUST BE RECEIVED AT TOWN HALL \nNO LATER THAN: \n  \nNOON \nMONDAY\, APRIL 18\, 2022
URL:https://townofredingtonbeach.com/event/deadline-for-variance-applications-36/
CATEGORIES:Board of Adjustment
END:VEVENT
END:VCALENDAR