BEGIN:VCALENDAR
VERSION:2.0
PRODID:-//Town of Redington Beach, Pinellas County, Florida - ECPv6.15.17.1//NONSGML v1.0//EN
CALSCALE:GREGORIAN
METHOD:PUBLISH
X-WR-CALNAME:Town of Redington Beach, Pinellas County, Florida
X-ORIGINAL-URL:https://townofredingtonbeach.com
X-WR-CALDESC:Events for Town of Redington Beach, Pinellas County, Florida
REFRESH-INTERVAL;VALUE=DURATION:PT1H
X-Robots-Tag:noindex
X-PUBLISHED-TTL:PT1H
BEGIN:VTIMEZONE
TZID:America/New_York
BEGIN:DAYLIGHT
TZOFFSETFROM:-0500
TZOFFSETTO:-0400
TZNAME:EDT
DTSTART:20210314T070000
END:DAYLIGHT
BEGIN:STANDARD
TZOFFSETFROM:-0400
TZOFFSETTO:-0500
TZNAME:EST
DTSTART:20211107T060000
END:STANDARD
BEGIN:DAYLIGHT
TZOFFSETFROM:-0500
TZOFFSETTO:-0400
TZNAME:EDT
DTSTART:20220313T070000
END:DAYLIGHT
BEGIN:STANDARD
TZOFFSETFROM:-0400
TZOFFSETTO:-0500
TZNAME:EST
DTSTART:20221106T060000
END:STANDARD
BEGIN:DAYLIGHT
TZOFFSETFROM:-0500
TZOFFSETTO:-0400
TZNAME:EDT
DTSTART:20230312T070000
END:DAYLIGHT
BEGIN:STANDARD
TZOFFSETFROM:-0400
TZOFFSETTO:-0500
TZNAME:EST
DTSTART:20231105T060000
END:STANDARD
END:VTIMEZONE
BEGIN:VEVENT
DTSTART;TZID=America/New_York:20220916T130000
DTEND;TZID=America/New_York:20220916T160000
DTSTAMP:20260424T132513
CREATED:20220914T171423Z
LAST-MODIFIED:20220914T171701Z
UID:6577-1663333200-1663344000@townofredingtonbeach.com
SUMMARY:Special Magistrate Hearing - 1pm\, 2pm\, 3pm
DESCRIPTION:Special magistrate hearing for code enforcement – 16104 3rd St E. The hearing will start at 1:00pm. The hearing will be held at Town Hall\, 105 164th Avenue\, Redington Beach\, FL 33708. \nSpecial magistrate hearing for code enforcement – 16113 2nd St E. The hearing will start at 2:00pm. The hearing will be held at Town Hall\, 105 164th Avenue\, Redington Beach\, FL 33708. \nSpecial magistrate hearing for code enforcement – 16121 4th St E. The hearing will start at 3:00pm. The hearing will be held at Town Hall\, 105 164th Avenue\, Redington Beach\, FL 33708. \n  \nSpecial-Magistrate-Agenda-2022-09-16
URL:https://townofredingtonbeach.com/event/special-magistrate-hearing-1pm-2pm-3pm/
END:VEVENT
END:VCALENDAR